




BEGIN:VCALENDAR
VERSION:2.0
PRODID:-//FIX Trading Community - ECPv6.3.7//NONSGML v1.0//EN
CALSCALE:GREGORIAN
METHOD:PUBLISH
X-WR-CALNAME:FIX Trading Community
X-ORIGINAL-URL:https://www.fixtrading.org
X-WR-CALDESC:Events for FIX Trading Community
REFRESH-INTERVAL;VALUE=DURATION:PT1H
X-Robots-Tag:noindex
X-PUBLISHED-TTL:PT1H
BEGIN:VTIMEZONE
TZID:Asia/Hong_Kong
BEGIN:STANDARD
TZOFFSETFROM:+0800
TZOFFSETTO:+0800
TZNAME:HKT
DTSTART:20250101T000000
END:STANDARD
TZID:Europe/London
BEGIN:DAYLIGHT
TZOFFSETFROM:+0000
TZOFFSETTO:+0100
TZNAME:BST
DTSTART:20250330T010000
END:DAYLIGHT
BEGIN:STANDARD
TZOFFSETFROM:+0100
TZOFFSETTO:+0000
TZNAME:GMT
DTSTART:20251026T010000
END:STANDARD
TZID:Asia/Singapore
BEGIN:STANDARD
TZOFFSETFROM:+0800
TZOFFSETTO:+0800
TZNAME:+08
DTSTART:20250101T000000
END:STANDARD
TZID:America/Chicago
BEGIN:DAYLIGHT
TZOFFSETFROM:-0600
TZOFFSETTO:-0500
TZNAME:CDT
DTSTART:20250309T080000
END:DAYLIGHT
BEGIN:STANDARD
TZOFFSETFROM:-0500
TZOFFSETTO:-0600
TZNAME:CST
DTSTART:20251102T070000
END:STANDARD
END:VTIMEZONE
BEGIN:VEVENT
DTSTART;TZID=Asia/Hong_Kong:20250724T180000
DTEND;TZID=Asia/Hong_Kong:20250724T203000
DTSTAMP:20260425T204721
CREATED:20250710T090441Z
LAST-MODIFIED:20250710T090441Z
UID:10000210-1753380000-1753389000@www.fixtrading.org
SUMMARY:FIX Summer Networking Drinks - Hong Kong
DESCRIPTION:🍹 *You’re Invited! FIX Summer Networking Drinks* 🍹\nJoin us for a casual summer gathering to toast good times and great company! \n📅 Date: Thursday\, 24 July\n🕕 Time: 6:00 – 8:30 PM (HKT)\n📍 Location: Central\, Hong Kong [exact location to be announced] \n\nAll FIX members and invited guests are welcome—just bring your smiles and summer vibes! 🌞\nSimply send an email to barbara.law@fixtrading.org to reserve your seat.  (limited seats per firm)\nWe can’t wait to catch up\, connect\, and clink glasses with you!
URL:https://www.fixtrading.org/event/fix-summer-networking-drinks-hong-kong/
LOCATION:Central\, Hong Kong
CATEGORIES:Asia Pac,FIX Event
ORGANIZER;CN="FIX Trading Community":MAILTO:events@fixtrading.org
GEO:22.3193039;114.1693611
END:VEVENT
BEGIN:VEVENT
DTSTART;TZID=Europe/London:20250903T140000
DTEND;TZID=Europe/London:20250903T150000
DTSTAMP:20260425T204721
CREATED:20250916T155202Z
LAST-MODIFIED:20250916T155313Z
UID:10000215-1756908000-1756911600@www.fixtrading.org
SUMMARY:FIX Information Xchange Webinar - "FIX'ing Post-Trade Transparency And Why It Matters for European Markets"
DESCRIPTION:Join us for an upcoming FIX Information Xchange webinar to discuss why improving the European post-trade transparency (PTT) framework is essential to delivering a clearer picture of the liquidity and size of European equity markets. \nFrom micro to macro\, we will look at what the data shows us and why European markets are more liquid than they might appear at first glance. We’ll also discuss how a more effective PTT framework can help local and international market participants gain a better understanding of the available liquidity. \n\nDate: Wednesday\, 3rd September 2025\nTime: 2-3pm BST / 3-4pm CET / 9-10am EST\n\nAgenda & Speakers:  \nPresentation on European liquidity breakdown and FIX recommendations for improving the transparency framework: \n\n\n\nLaetitia Visconti\, Head of Market Structure\, Aquis Exchange\, and Co-Chair of the FIX Consolidated Tape Equities WG\nAlex Ings\, Executive Director – Agency Trading – Client Access Product Manager\, UBS and Co-Chair of the FIX Consolidated Tape Equities WG\n\n\n\nInteractive panel with Q&A\, moderated by Jim Kaye\, Executive Director\, FIX Trading Community: \n\n\n\n\n\nJaafar Amrani\, EMEA Equities Head of Liquidity Strategy\, BNP Paribas\nHuw Gronow\, Head of Dealing\, BNY Investments Newton\nVirginie Saade\, Head of Government & Regulatory Policy EMEA\, Citadel\nLaetitia Visconti\, Head of Market Structure\, Aquis Exchange\nRichard Worrell\, Co-Head of Equity Trading\, Head of Business Development\, London Stock Exchange Group\n\n\n\n\n\nFIX Information Xchange sessions are designed to provide insights into key industry topics\, informed by the work of our FIX working groups and committees. This webinar is open both to FIX members and non-members. If case of any questions\, please contact us at: fix@fixtrading.org \nThe Webinar will be posted on the FIX Webinar Library here.
URL:https://www.fixtrading.org/event/fix-information-xchange/
LOCATION:Mumbai
ORGANIZER;CN="FIX Trading Community":MAILTO:events@fixtrading.org
END:VEVENT
BEGIN:VEVENT
DTSTART;TZID=Asia/Singapore:20250911T160000
DTEND;TZID=Asia/Singapore:20250911T170000
DTSTAMP:20260425T204721
CREATED:20250902T080451Z
LAST-MODIFIED:20250905T113628Z
UID:10000214-1757606400-1757610000@www.fixtrading.org
SUMMARY:FIX NextGen gathering - Singapore
DESCRIPTION:*You’re Invited! FIX NextGen Gathering*\nFIX Singapore/SEA Working Group is pleased to offer the next FNG gathering in Singapore at 4pm Thursday 11th September\, kindly hosted at the offices of FIX Trading Community member\, Virtu Financial. \nWe’re delighted to welcome Paul Gulberg\, Head of Americas Equity Research at Bloomberg Intelligence who will be joining us in Singapore next week to discuss exchange competition and innovation in the North American markets\, and some potential implications for the APAC region. There will also be an opportunity for Q&A. \nAll FIX member firms are invited to attend\, with priority given to FNG members. \n📅 Date: Thursday\, 11 September 2025\n🕕 Time: 4:00 – 5:00 PM (SGT)\n📍 Location: Virtu Financial\, 1557 Keppel Road\, #03-01\, Singapore\, 089066 \nPlease RSVP to barbara.law@fixtrading.org and indicate whether you will be attending in person OR via Zoom \n 
URL:https://www.fixtrading.org/event/fix-nextgen-gathering-singapore/
LOCATION:Mumbai
CATEGORIES:Asia Pac,FIX Event
ORGANIZER;CN="FIX Trading Community":MAILTO:events@fixtrading.org
END:VEVENT
BEGIN:VEVENT
DTSTART;TZID=America/Chicago:20250917T150000
DTEND;TZID=America/Chicago:20250917T183000
DTSTAMP:20260425T204721
CREATED:20250425T090025Z
LAST-MODIFIED:20250915T125109Z
UID:10000203-1758121200-1758133800@www.fixtrading.org
SUMMARY:Chicago Regional Meeting 2025
DESCRIPTION:The FIX Trading Community invites you to attend the Chicago Regional Meeting on Wednesday 17th September 2025. \nHosted by Trading Technologies this event will bring together local market participants to discuss the issues and challenges impacting the electronic trading market in the region. Join us from 3pm for an afternoon of content\, followed by a networking drinks reception. \n\n\n	\nAgenda\n\n\n3:00pm – Registration & Networking \n3:30pm – Opening Remarks3:35pm – Host Welcome Remarks \n3:40pm – Panel Discussion: AI Transformation Across Capital Markets: From Innovation to Implementation \nAI is reshaping trading and market operations through execution optimization\, compliance\, and risk analytics. This panel explores how firms are leveraging AI while addressing challenges such as model explainability and transparency \nKey topics include: AI applications\, FIX standards adaptation\, regulatory compliance\, and risk management frameworks. \n \n4:20pm – Panel Discussion: The Rise of 0DTE Options & Market Stability \nThe rapid growth of zero days-to-expiration (0DTE) SPX options—now over half of daily volume—is reshaping equity derivatives markets. This panel will explore how 0DTEs impact intraday liquidity\, volatility\, and gamma risk\, and the critical role of execution infrastructure and real-time risk management \nKey topics include: liquidity patterns\, gamma-driven swings\, risk management\, and evolving regulatory views on retail participation. \n5:00pm – Networking Reception \n\nREGISTER HERE\n\n  \nHosted by\n 
URL:https://www.fixtrading.org/event/chicagoregional2025/
LOCATION:Trading Technologies\, Chicago\, 1 South Wacker Drive #1200\, Chicago\, IL 60606\, United States
CATEGORIES:Americas,FIX Event
ATTACH;FMTTYPE=image/jpeg:https://www.fixtrading.org/wp-content/uploads/2025/04/Chicago-WordPress-Image.jpg
ORGANIZER;CN="FIX Trading Community":MAILTO:events@fixtrading.org
GEO:41.8815195;-87.635987
X-APPLE-STRUCTURED-LOCATION;VALUE=URI;X-ADDRESS=Trading Technologies Chicago 1 South Wacker Drive #1200 Chicago IL 60606 United States;X-APPLE-RADIUS=500;X-TITLE=1 South Wacker Drive #1200:geo:-87.635987,41.8815195
END:VEVENT
END:VCALENDAR