




BEGIN:VCALENDAR
VERSION:2.0
PRODID:-//FIX Trading Community - ECPv6.3.7//NONSGML v1.0//EN
CALSCALE:GREGORIAN
METHOD:PUBLISH
X-WR-CALNAME:FIX Trading Community
X-ORIGINAL-URL:https://www.fixtrading.org
X-WR-CALDESC:Events for FIX Trading Community
REFRESH-INTERVAL;VALUE=DURATION:PT1H
X-Robots-Tag:noindex
X-PUBLISHED-TTL:PT1H
BEGIN:VTIMEZONE
TZID:Asia/Singapore
BEGIN:STANDARD
TZOFFSETFROM:+0800
TZOFFSETTO:+0800
TZNAME:+08
DTSTART:20250101T000000
END:STANDARD
TZID:Europe/Paris
BEGIN:DAYLIGHT
TZOFFSETFROM:+0100
TZOFFSETTO:+0200
TZNAME:CEST
DTSTART:20250330T010000
END:DAYLIGHT
BEGIN:STANDARD
TZOFFSETFROM:+0200
TZOFFSETTO:+0100
TZNAME:CET
DTSTART:20251026T010000
END:STANDARD
END:VTIMEZONE
BEGIN:VEVENT
DTSTART;TZID=Asia/Singapore:20251120T090000
DTEND;TZID=Asia/Singapore:20251120T170000
DTSTAMP:20260420T021504
CREATED:20251020T073801Z
LAST-MODIFIED:20251020T073801Z
UID:10000217-1763629200-1763658000@www.fixtrading.org
SUMMARY:Singapore Trading Conference 2025
DESCRIPTION:Navigating Multi-Asset Trading and Southeast Asia’s Markets\nThis is a pivotal event in Asia’s electronic trading calendar\, drawing industry leaders and innovators from across the region to explore the dynamic developments shaping multi-asset trading and pan-Southeast Asian markets. As a hub for cutting-edge insights and collaboration\, this conference offers a vital platform for advancing trading practices in one of the most fast-evolving regions in the world. \nThis year’s agenda will focus on the growing significance of multi-asset trading\, providing expert perspectives on integrating technology\, improving efficiency\, and navigating complexities across asset classes. Sessions will also delve into the opportunities and challenges within Southeast Asia’s diverse markets. With contributions from leading exchanges\, brokers\, buy-side firms\, and regulators\, the conference will deliver forward-looking strategies and actionable insights tailored to the needs of trading and technology professionals. \nNetworking is at the heart of this event. Attendees will have the chance to connect with peers and industry pioneers\, whether through interactive discussions during sessions\, exploring partnership opportunities in the exhibition area\, or building relationships over drinks at the exclusive cocktail reception. \nAccess to the conference is complimentary for FIX Trading Community members\, buy-side professionals\, regulators\, and invited guests. Registration and confirmation are required\, and spaces are limited. \nRegister today to secure your place! \n\nCLICK HERE FOR FURTHER INFORMATION
URL:https://www.fixtrading.org/event/singapore-trading-conference-2025/
LOCATION:Pan Pacific Singapore\, Level 1\, Pacific Ballroom\, 7 Raffles Boulevard\, 039595\, Singapore
CATEGORIES:Asia Pac,FIX Event
ATTACH;FMTTYPE=image/jpeg:https://www.fixtrading.org/wp-content/uploads/2025/10/Linkedin_save-the-day.jpg
ORGANIZER;CN="FIX Trading Community":MAILTO:events@fixtrading.org
GEO:1.292368;103.858927
X-APPLE-STRUCTURED-LOCATION;VALUE=URI;X-ADDRESS=Pan Pacific Singapore Level 1 Pacific Ballroom 7 Raffles Boulevard 039595 Singapore;X-APPLE-RADIUS=500;X-TITLE=Level 1\, Pacific Ballroom\, 7 Raffles Boulevard:geo:103.858927,1.292368
END:VEVENT
BEGIN:VEVENT
DTSTART;TZID=Europe/Paris:20251120T090000
DTEND;TZID=Europe/Paris:20251120T173000
DTSTAMP:20260420T021505
CREATED:20250320T161302Z
LAST-MODIFIED:20251022T084828Z
UID:10000200-1763629200-1763659800@www.fixtrading.org
SUMMARY:France Trading Conference 2025
DESCRIPTION:The FIX Trading Community is returning to Paris this year with the France Trading Conference 2025! It will be hosted at Étoile Business Center\, Paris\, on Thursday 20th November. \nThis event will provide an unrivaled opportunity for industry representatives to participate in a forum where the real issues\, challenges and opportunities impacting the region’s electronic trading community will be addressed. \nThis one-day conference will provide a series of industry-focused presentations and panel sessions followed by networking drinks. \n\n\n	\nLead Sponsor
URL:https://www.fixtrading.org/event/france2025/
LOCATION:Étoile Business Center\, 21-25\, rue Balzac\, Paris\, 75008\, France
CATEGORIES:EMEA,FIX Event
ATTACH;FMTTYPE=image/jpeg:https://www.fixtrading.org/wp-content/uploads/2025/03/France-Event-Image-scaled.jpg
ORGANIZER;CN="FIX Trading Community":MAILTO:events@fixtrading.org
GEO:48.8755703;2.3020153
X-APPLE-STRUCTURED-LOCATION;VALUE=URI;X-ADDRESS=Étoile Business Center 21-25 rue Balzac Paris 75008 France;X-APPLE-RADIUS=500;X-TITLE=21-25\, rue Balzac:geo:2.3020153,48.8755703
END:VEVENT
END:VCALENDAR