




BEGIN:VCALENDAR
VERSION:2.0
PRODID:-//FIX Trading Community - ECPv6.3.7//NONSGML v1.0//EN
CALSCALE:GREGORIAN
METHOD:PUBLISH
X-WR-CALNAME:FIX Trading Community
X-ORIGINAL-URL:https://www.fixtrading.org
X-WR-CALDESC:Events for FIX Trading Community
REFRESH-INTERVAL;VALUE=DURATION:PT1H
X-Robots-Tag:noindex
X-PUBLISHED-TTL:PT1H
BEGIN:VTIMEZONE
TZID:Australia/Sydney
BEGIN:STANDARD
TZOFFSETFROM:+1100
TZOFFSETTO:+1000
TZNAME:AEST
DTSTART:20250405T160000
END:STANDARD
BEGIN:DAYLIGHT
TZOFFSETFROM:+1000
TZOFFSETTO:+1100
TZNAME:AEDT
DTSTART:20251004T160000
END:DAYLIGHT
END:VTIMEZONE
BEGIN:VEVENT
DTSTART;TZID=Australia/Sydney:20251022T090000
DTEND;TZID=Australia/Sydney:20251022T170000
DTSTAMP:20260420T032659
CREATED:20250401T100453Z
LAST-MODIFIED:20250401T111847Z
UID:10000202-1761123600-1761152400@www.fixtrading.org
SUMMARY:Australia Trading Conference 2025
DESCRIPTION:Advancing Australia’s Markets: Insights and Innovation at the FIX Conference\nThe Australia FIX Trading Community Conference is a landmark event in the nation’s trading calendar\, drawing over 300 of the brightest minds in institutional trading for a dynamic day of insights\, innovation\, and networking. As a defining moment for Australia’s electronic trading community\, this conference offers a unique platform to explore the future of the industry and tackle the challenges shaping the markets today. \nThis year’s agenda is packed with compelling presentations and thought-provoking panel discussions led by Australia’s most influential traders\, technologists\, and market leaders. Attendees will gain a deep understanding of cutting-edge technologies\, market innovations\, and regulatory shifts reshaping the trade lifecycle. With expert insights and forward-looking strategies\, the conference delivers a comprehensive outlook on the trends that matter most to Australia’s trading community. \nThe event isn’t just about knowledge—it’s about connections. From animated conversations during breaks and lunch to forging partnerships in the exhibition area and mingling at the exclusive cocktail reception\, the Australia FIX Conference creates countless opportunities to build meaningful relationships and expand your professional network. \nAccess is complimentary for FIX Trading Community members\, buy-side professionals\, regulators\, and specially invited guests\, but registration is essential\, and spaces are limited. \nDon’t miss your chance to be part of this influential gathering. Join us in Sydney and take your place at the forefront of electronic trading in Australia. \n\n\nCLICK HERE FOR FURTHER INFORMATION\n\n 
URL:https://www.fixtrading.org/event/australia2025/
LOCATION:The Fullerton Hotel Sydney\,\, 1 Martin Place\, Sydney\, NSW\, Australia
CATEGORIES:Asia Pac,FIX Event
ATTACH;FMTTYPE=image/jpeg:https://www.fixtrading.org/wp-content/uploads/2022/11/sydney-opera.jpg
ORGANIZER;CN="FIX Trading Community":MAILTO:events@fixtrading.org
GEO:-33.8678447;151.2077854
X-APPLE-STRUCTURED-LOCATION;VALUE=URI;X-ADDRESS=The Fullerton Hotel Sydney 1 Martin Place Sydney NSW Australia;X-APPLE-RADIUS=500;X-TITLE=1 Martin Place\, Sydney:geo:151.2077854,-33.8678447
END:VEVENT
END:VCALENDAR