




BEGIN:VCALENDAR
VERSION:2.0
PRODID:-//FIX Trading Community - ECPv6.3.7//NONSGML v1.0//EN
CALSCALE:GREGORIAN
METHOD:PUBLISH
X-ORIGINAL-URL:https://www.fixtrading.org
X-WR-CALDESC:Events for FIX Trading Community
REFRESH-INTERVAL;VALUE=DURATION:PT1H
X-Robots-Tag:noindex
X-PUBLISHED-TTL:PT1H
BEGIN:VTIMEZONE
TZID:America/Chicago
BEGIN:DAYLIGHT
TZOFFSETFROM:-0600
TZOFFSETTO:-0500
TZNAME:CDT
DTSTART:20250309T080000
END:DAYLIGHT
BEGIN:STANDARD
TZOFFSETFROM:-0500
TZOFFSETTO:-0600
TZNAME:CST
DTSTART:20251102T070000
END:STANDARD
END:VTIMEZONE
BEGIN:VEVENT
DTSTART;TZID=America/Chicago:20250917T150000
DTEND;TZID=America/Chicago:20250917T183000
DTSTAMP:20260420T053519
CREATED:20250425T090025Z
LAST-MODIFIED:20250915T125109Z
UID:10000203-1758121200-1758133800@www.fixtrading.org
SUMMARY:Chicago Regional Meeting 2025
DESCRIPTION:The FIX Trading Community invites you to attend the Chicago Regional Meeting on Wednesday 17th September 2025. \nHosted by Trading Technologies this event will bring together local market participants to discuss the issues and challenges impacting the electronic trading market in the region. Join us from 3pm for an afternoon of content\, followed by a networking drinks reception. \n\n\n	\nAgenda\n\n\n3:00pm – Registration & Networking \n3:30pm – Opening Remarks3:35pm – Host Welcome Remarks \n3:40pm – Panel Discussion: AI Transformation Across Capital Markets: From Innovation to Implementation \nAI is reshaping trading and market operations through execution optimization\, compliance\, and risk analytics. This panel explores how firms are leveraging AI while addressing challenges such as model explainability and transparency \nKey topics include: AI applications\, FIX standards adaptation\, regulatory compliance\, and risk management frameworks. \n \n4:20pm – Panel Discussion: The Rise of 0DTE Options & Market Stability \nThe rapid growth of zero days-to-expiration (0DTE) SPX options—now over half of daily volume—is reshaping equity derivatives markets. This panel will explore how 0DTEs impact intraday liquidity\, volatility\, and gamma risk\, and the critical role of execution infrastructure and real-time risk management \nKey topics include: liquidity patterns\, gamma-driven swings\, risk management\, and evolving regulatory views on retail participation. \n5:00pm – Networking Reception \n\nREGISTER HERE\n\n  \nHosted by\n 
URL:https://www.fixtrading.org/event/chicagoregional2025/
LOCATION:Trading Technologies\, Chicago\, 1 South Wacker Drive #1200\, Chicago\, IL 60606\, United States
CATEGORIES:Americas,FIX Event
ATTACH;FMTTYPE=image/jpeg:https://www.fixtrading.org/wp-content/uploads/2025/04/Chicago-WordPress-Image.jpg
ORGANIZER;CN="FIX Trading Community":MAILTO:events@fixtrading.org
GEO:41.8815195;-87.635987
X-APPLE-STRUCTURED-LOCATION;VALUE=URI;X-ADDRESS=Trading Technologies Chicago 1 South Wacker Drive #1200 Chicago IL 60606 United States;X-APPLE-RADIUS=500;X-TITLE=1 South Wacker Drive #1200:geo:-87.635987,41.8815195
END:VEVENT
END:VCALENDAR