




BEGIN:VCALENDAR
VERSION:2.0
PRODID:-//FIX Trading Community - ECPv6.3.7//NONSGML v1.0//EN
CALSCALE:GREGORIAN
METHOD:PUBLISH
X-ORIGINAL-URL:https://www.fixtrading.org
X-WR-CALDESC:Events for FIX Trading Community
REFRESH-INTERVAL;VALUE=DURATION:PT1H
X-Robots-Tag:noindex
X-PUBLISHED-TTL:PT1H
BEGIN:VTIMEZONE
TZID:Asia/Singapore
BEGIN:STANDARD
TZOFFSETFROM:+0800
TZOFFSETTO:+0800
TZNAME:+08
DTSTART:20250101T000000
END:STANDARD
END:VTIMEZONE
BEGIN:VEVENT
DTSTART;TZID=Asia/Singapore:20250516T120000
DTEND;TZID=Asia/Singapore:20250516T140000
DTSTAMP:20260420T090711
CREATED:20250425T111151Z
LAST-MODIFIED:20250428T081307Z
UID:10000205-1747396800-1747404000@www.fixtrading.org
SUMMARY:Data & AI: Transforming the Investment Lifecycle
DESCRIPTION:This exclusive roundtable\, co-hosted by FIX Trading Community and Aladdin by BlackRock\, brings together senior leaders\, technology experts\, and industry practitioners to explore how AI and data are transforming the investment lifecycle enhancing strategy\, execution\, and risk management. \nEngage in insightful discussions on Data & AI strategy\, governance\, and the future of financial innovation\, all while networking over a curated lunch experience. \nWhy attend?\n\nLearn from industry leaders on AI-driven innovation in trading\, post-trade\, and risk management.\nExplore best practices in AI governance\, adoption\, and maximizing business impact.\nConnect with senior executives\, technology experts\, and industry peers.\n\n\nREGISTER HERE\n\n 
URL:https://www.fixtrading.org/event/2025fixroundtable/
LOCATION:BlackRock\, L16\, Twenty Anson\, 20 Anson Road\, Singapore 079912
CATEGORIES:Asia Pac,FIX Event
ATTACH;FMTTYPE=image/png:https://www.fixtrading.org/wp-content/uploads/2025/04/Data-and-AI-APAC-Event.png
ORGANIZER;CN="FIX Trading Community - Barbara Law":MAILTO:barbara.law@fixtrading.org
GEO:1.2754219;103.8455772
X-APPLE-STRUCTURED-LOCATION;VALUE=URI;X-ADDRESS=BlackRock L16 Twenty Anson 20 Anson Road Singapore 079912;X-APPLE-RADIUS=500;X-TITLE=L16\, Twenty Anson\, 20 Anson Road\, Singapore 079912:geo:103.8455772,1.2754219
END:VEVENT
END:VCALENDAR