




BEGIN:VCALENDAR
VERSION:2.0
PRODID:-//FIX Trading Community - ECPv6.3.7//NONSGML v1.0//EN
CALSCALE:GREGORIAN
METHOD:PUBLISH
X-WR-CALNAME:FIX Trading Community
X-ORIGINAL-URL:https://www.fixtrading.org
X-WR-CALDESC:Events for FIX Trading Community
REFRESH-INTERVAL;VALUE=DURATION:PT1H
X-Robots-Tag:noindex
X-PUBLISHED-TTL:PT1H
BEGIN:VTIMEZONE
TZID:America/New_York
BEGIN:DAYLIGHT
TZOFFSETFROM:-0500
TZOFFSETTO:-0400
TZNAME:EDT
DTSTART:20250309T070000
END:DAYLIGHT
BEGIN:STANDARD
TZOFFSETFROM:-0400
TZOFFSETTO:-0500
TZNAME:EST
DTSTART:20251102T060000
END:STANDARD
END:VTIMEZONE
BEGIN:VEVENT
DTSTART;TZID=America/New_York:20250409T163000
DTEND;TZID=America/New_York:20250409T190000
DTSTAMP:20260420T102308
CREATED:20250320T153135Z
LAST-MODIFIED:20250320T172034Z
UID:10000199-1744216200-1744225200@www.fixtrading.org
SUMMARY:Women in FIX presents the Art of Mentorship
DESCRIPTION:Mentorship plays a crucial role in personal and professional growth\, but how do we develop and maintain strong\, effective mentor-mentee relationships throughout our careers? \nAt this event\, Colleen Stapleton\, Product Manager at MarketAxess Match\, and Raquel Alves\, Head of Enterprise Shared Solutions at Bloomberg\, and Rama Motwani\, Director of Product and Trading Solution at Fidelity will share their own experiences in mentoring and being mentored. They’ll offer actionable advice on fostering meaningful connections\, expanding the diversity of mentors\, and achieving career goals. \nWhy Attend? \n\nGain valuable insights on building and maintaining strong mentorships.\nLearn how to diversify your mentor network for broader perspectives.\nNetwork with peers and mentors who can guide your career growth.\n\nThis session promises to be both insightful and engaging\, with plenty of opportunities to connect\, learn\, and grow your professional relationships. \n\nREGISTER HERE\n\n\n\n 
URL:https://www.fixtrading.org/event/womeninfixtheartofmentorship/
LOCATION:Bloomberg\, Bloomberg Office\, 731 Lexington Avenue\, New York
CATEGORIES:Americas,FIX Event
ATTACH;FMTTYPE=image/png:https://www.fixtrading.org/wp-content/uploads/2025/03/Women-In-FIX.png
ORGANIZER;CN="FIX Trading Community":MAILTO:events@fixtrading.org
GEO:35.681041;139.7637996
X-APPLE-STRUCTURED-LOCATION;VALUE=URI;X-ADDRESS=Bloomberg Bloomberg Office 731 Lexington Avenue New York;X-APPLE-RADIUS=500;X-TITLE=Bloomberg Office\, 731 Lexington Avenue\, New York:geo:139.7637996,35.681041
END:VEVENT
END:VCALENDAR