




BEGIN:VCALENDAR
VERSION:2.0
PRODID:-//FIX Trading Community - ECPv6.3.7//NONSGML v1.0//EN
CALSCALE:GREGORIAN
METHOD:PUBLISH
X-WR-CALNAME:FIX Trading Community
X-ORIGINAL-URL:https://www.fixtrading.org
X-WR-CALDESC:Events for FIX Trading Community
REFRESH-INTERVAL;VALUE=DURATION:PT1H
X-Robots-Tag:noindex
X-PUBLISHED-TTL:PT1H
BEGIN:VTIMEZONE
TZID:Asia/Kolkata
BEGIN:STANDARD
TZOFFSETFROM:+0530
TZOFFSETTO:+0530
TZNAME:IST
DTSTART:20250101T000000
END:STANDARD
END:VTIMEZONE
BEGIN:VEVENT
DTSTART;TZID=Asia/Kolkata:20250402T090000
DTEND;TZID=Asia/Kolkata:20250402T173000
DTSTAMP:20260420T113739
CREATED:20250106T173048Z
LAST-MODIFIED:20250106T173048Z
UID:10000195-1743584400-1743615000@www.fixtrading.org
SUMMARY:India FIX Conference 2025
DESCRIPTION:The India FIX Conference promises to deliver thought-provoking discussions led by top industry professionals and innovators\, offering actionable insights into the most pressing topics shaping India’s electronic trading landscape. As the annual gathering for the electronic trading community\, the conference serves as a cornerstone for knowledge sharing\, collaboration\, and innovation\, bringing together key stakeholders from across the industry. From advancements in trading to the transformative role of technologies in capital markets\, the agenda will explore cutting-edge trends and their practical implications. \nBeyond the informative sessions\, attendees can take advantage of unparalleled networking opportunities\, whether forming meaningful partnerships in the exhibition area or engaging in lively conversations during the cocktail reception. \nAccess to the conference is free for FIX Trading Community members\, buy-side professionals\, regulators\, and invited guests. Registration and confirmation are required\, and spaces are limited. \nDon’t miss this opportunity to stay informed and actively contribute to the future of electronic trading. Join us in Mumbai for an inspiring and community-driven event. \n\nCLICK HERE FOR FURTHER INFORMATION AND REGISTRATION\n\n 
URL:https://www.fixtrading.org/event/india2025/
LOCATION:Imperial Hall & Pallazzio The St. Regis Mumbai\, 462\, Senapati Bapat Marg\, Lower Parel\,\, Mumbai\, Maharashtra\, 400013\, India
CATEGORIES:Asia Pac,FIX Event
ATTACH;FMTTYPE=image/jpeg:https://www.fixtrading.org/wp-content/uploads/2024/12/rajiv-gandhi-sea-link-166867_1280.jpg
ORGANIZER;CN="FIX Trading Community":MAILTO:events@fixtrading.org
GEO:18.9940532;72.8241298
X-APPLE-STRUCTURED-LOCATION;VALUE=URI;X-ADDRESS=Imperial Hall & Pallazzio The St. Regis Mumbai 462 Senapati Bapat Marg Lower Parel Mumbai Maharashtra 400013 India;X-APPLE-RADIUS=500;X-TITLE=462\, Senapati Bapat Marg\, Lower Parel\,:geo:72.8241298,18.9940532
END:VEVENT
END:VCALENDAR