




BEGIN:VCALENDAR
VERSION:2.0
PRODID:-//FIX Trading Community - ECPv6.3.7//NONSGML v1.0//EN
CALSCALE:GREGORIAN
METHOD:PUBLISH
X-ORIGINAL-URL:https://www.fixtrading.org
X-WR-CALDESC:Events for FIX Trading Community
REFRESH-INTERVAL;VALUE=DURATION:PT1H
X-Robots-Tag:noindex
X-PUBLISHED-TTL:PT1H
BEGIN:VTIMEZONE
TZID:Asia/Singapore
BEGIN:STANDARD
TZOFFSETFROM:+0800
TZOFFSETTO:+0800
TZNAME:+08
DTSTART:20240101T000000
END:STANDARD
TZID:Asia/Tokyo
BEGIN:STANDARD
TZOFFSETFROM:+0900
TZOFFSETTO:+0900
TZNAME:JST
DTSTART:20240101T000000
END:STANDARD
END:VTIMEZONE
BEGIN:VEVENT
DTSTART;TZID=Asia/Singapore:20241115T090000
DTEND;TZID=Asia/Singapore:20241115T170000
DTSTAMP:20260420T163230
CREATED:20240617T142326Z
LAST-MODIFIED:20240814T123629Z
UID:10000173-1731661200-1731690000@www.fixtrading.org
SUMMARY:Singapore FIX Multi-Asset Trading Conference 2024
DESCRIPTION:Join us at the Singapore FIX Multi-Asset Trading Conference 2024\, on Friday 15th November 2024 for a premier event dedicated to the vibrant world of multi-asset trading covering the pan SE Asia markets. We are thrilled to reconvene institutional traders and technologists to tackle the industry’s foremost challenges and chart the course for future advancements. \nThis conference is an ideal platform for those seeking to stay abreast of new trading strategies\, technology innovation and market structural shifts. It offers a deep dive into the latest trends across various asset classes including Equities\, FX\, Fixed Income\, ETFs\, and Digital Assets. Whether you’re looking to enhance your trading strategies or to understand the evolving market dynamics\, this conference is tailored for you. \nFeaturing an exhibition area where sponsors will present cutting-edge innovations\, the event is designed to facilitate learning\, foster strong professional relationships\, and enhance networking opportunities. The conference will conclude with a post-event cocktail reception\, providing the perfect setting to reflect on the day’s learnings and network with industry peers. \n\nCLICK HERE FOR FURTHER INFORMATION\n\n 
URL:https://www.fixtrading.org/event/singapore2024/
LOCATION:Pan Pacific Singapore\, Level 1\, Pacific Ballroom\, 7 Raffles Boulevard\, 039595\, Singapore
CATEGORIES:Asia Pac,FIX Event
ATTACH;FMTTYPE=image/jpeg:https://www.fixtrading.org/wp-content/uploads/2024/06/singapore-2696704_1280.jpg
ORGANIZER;CN="FIX Trading Community":MAILTO:events@fixtrading.org
GEO:1.292368;103.858927
X-APPLE-STRUCTURED-LOCATION;VALUE=URI;X-ADDRESS=Pan Pacific Singapore Level 1 Pacific Ballroom 7 Raffles Boulevard 039595 Singapore;X-APPLE-RADIUS=500;X-TITLE=Level 1\, Pacific Ballroom\, 7 Raffles Boulevard:geo:103.858927,1.292368
END:VEVENT
BEGIN:VEVENT
DTSTART;TZID=Asia/Tokyo:20241115T160000
DTEND;TZID=Asia/Tokyo:20241115T202500
DTSTAMP:20260420T163230
CREATED:20240729T095151Z
LAST-MODIFIED:20241013T130625Z
UID:10000180-1731686400-1731702300@www.fixtrading.org
SUMMARY:Japan Electronic Trading Seminar 2024
DESCRIPTION:The FIX Japan Regional Committee is proud to organise a late afternoon seminar in conjunction with GMAC. In the year between the Committee’s biennial Japan Electronic Trading Conferences\, this seminar will focus on some of the latest key trading-related topics surrounding the Tokyo market in 2024 and will be followed by a networking opportunity with the industry peers. This event is only open to participants from FIX Trading Community member firms. (Non-member buy-side firms are also invited). \nRegistration for this event will open shortly. \n\nView Event Information Here\n  \n\n\n\n	\nLead Sponsor\n\n\n\n \n\n\n\n	\nWorkshop Sponsors\n\n\n\n \n \n \n 
URL:https://www.fixtrading.org/event/japanelectronictradingseminar2024/
LOCATION:Tokyo Midtown Yaesu Conference\, Japan
CATEGORIES:Asia Pac,FIX Event
ATTACH;FMTTYPE=image/png:https://www.fixtrading.org/wp-content/uploads/2024/07/Wordpress-Feautres-Image-size-1200x628-2.png
ORGANIZER;CN="G-MAC":MAILTO:fixj@jtbcom.co.jp
GEO:35.6794084;139.7689311
END:VEVENT
END:VCALENDAR