




BEGIN:VCALENDAR
VERSION:2.0
PRODID:-//FIX Trading Community - ECPv6.3.7//NONSGML v1.0//EN
CALSCALE:GREGORIAN
METHOD:PUBLISH
X-ORIGINAL-URL:https://www.fixtrading.org
X-WR-CALDESC:Events for FIX Trading Community
REFRESH-INTERVAL;VALUE=DURATION:PT1H
X-Robots-Tag:noindex
X-PUBLISHED-TTL:PT1H
BEGIN:VTIMEZONE
TZID:Asia/Kolkata
BEGIN:STANDARD
TZOFFSETFROM:+0530
TZOFFSETTO:+0530
TZNAME:IST
DTSTART:20240101T000000
END:STANDARD
END:VTIMEZONE
BEGIN:VEVENT
DTSTART;TZID=Asia/Kolkata:20241024T161500
DTEND;TZID=Asia/Kolkata:20241024T190000
DTSTAMP:20260420T173026
CREATED:20240916T151440Z
LAST-MODIFIED:20240925T124340Z
UID:10000189-1729786500-1729796400@www.fixtrading.org
SUMMARY:FIX India Working Group Seminar
DESCRIPTION:FIX India Working Group Seminar:\nCross Industry Panel: Navigating The Evolving Market Dynamics of Trading India\, including Tax\, and Quant Trading and Algo Wheels \nThe FIX Trading Community’s India Working Group will host a seminar at the National Stock Exchange of India’s (NSE) auditorium on 24 October 2024 (Thur)\, and you are cordially invited.  The event will feature a presentation on tax implications for traders and a panel discussion on navigating the evolving market dynamics.  Live streaming is also available for those who can’t attend in person.  This event is open to all\, including buy-side\, sell-side\, regulators\, accounting / consulting firms\, and solution providers\, and we look forward to seeing you! \n\n\n\n\nREGISTER IN-PERSON PASS\n\n\n\nREGISTER VIRTUAL PASS\n\n \n  \nTopics and Rundown (IST): \n\n\n\n4:15pm\nRegistration\n\n\n4:30pm\nWelcome & Introductions\n\n\n4:35pm\nPresentation: “Tax Implications for Traders from the Latest Budget”\nTejas Desai\, Partner & Leader\, Wealth & Asset Management – Tax & Regulatory services\, Ernst & Young LLP\n\n\n4:50pm\nCross Industry Panel: “Navigating The Evolving Market Dynamics of Trading India\, including Tax\, and Quant Trading and Algo Wheels” \nPanelists: \n\nMurat Atamer\, Head of Asia Execution Services – Morgan Stanley\nSuryadeep Das\, Director\, Electronic Trading Services (ETS)\, Kotak Institutional Equities\nAnil Ghelani\, CFA\, Head of Passive Investments & Products\, DSP Asset Manager\nGovind Patnaik\, AVP/Senior Trader\, Franklin Templeton Investments\n\nModerator: \n\nRohit Mandhotra\, Head – Investor Relationships\, NSE\n\n\n\n\n5:40pm\nQ&A and Closing Remarks\n\n\n5:50pm-7pm\nNetworking\n\n\n\nFee: Free of charge for FIX members and invited industry participants \nEnquiries: barbara.law@fixtrading.org \n 
URL:https://www.fixtrading.org/event/indiaseminar2024/
LOCATION:Dr. R H Patil Auditorium\, Dr. R H Patil Auditorium\, National Stock Exchange\, Exchange Plaza\, C-1\, Block G\, Bandra Kurla Complex\, Bandra (E)\, Mumbai\, 400 051\, India
CATEGORIES:Asia Pac,FIX Event
ATTACH;FMTTYPE=image/png:https://www.fixtrading.org/wp-content/uploads/2022/11/Mumbai-1.png
ORGANIZER;CN="FIX Trading Community - Barbara Law":MAILTO:barbara.law@fixtrading.org
GEO:19.05975;72.85917
X-APPLE-STRUCTURED-LOCATION;VALUE=URI;X-ADDRESS=Dr. R H Patil Auditorium Dr. R H Patil Auditorium National Stock Exchange Exchange Plaza C-1 Block G Bandra Kurla Complex Bandra (E) Mumbai 400 051 India;X-APPLE-RADIUS=500;X-TITLE=Dr. R H Patil Auditorium\, National Stock Exchange\, Exchange Plaza\, C-1\, Block G\, Bandra Kurla Complex:geo:72.85917,19.05975
END:VEVENT
END:VCALENDAR