




BEGIN:VCALENDAR
VERSION:2.0
PRODID:-//FIX Trading Community - ECPv6.3.7//NONSGML v1.0//EN
CALSCALE:GREGORIAN
METHOD:PUBLISH
X-ORIGINAL-URL:https://www.fixtrading.org
X-WR-CALDESC:Events for FIX Trading Community
REFRESH-INTERVAL;VALUE=DURATION:PT1H
X-Robots-Tag:noindex
X-PUBLISHED-TTL:PT1H
BEGIN:VTIMEZONE
TZID:Australia/Sydney
BEGIN:STANDARD
TZOFFSETFROM:+1100
TZOFFSETTO:+1000
TZNAME:AEST
DTSTART:20240406T160000
END:STANDARD
BEGIN:DAYLIGHT
TZOFFSETFROM:+1000
TZOFFSETTO:+1100
TZNAME:AEDT
DTSTART:20241005T160000
END:DAYLIGHT
END:VTIMEZONE
BEGIN:VEVENT
DTSTART;TZID=Australia/Sydney:20241017T090000
DTEND;TZID=Australia/Sydney:20241017T170000
DTSTAMP:20260420T173028
CREATED:20240328T084657Z
LAST-MODIFIED:20240930T112046Z
UID:10000111-1729155600-1729184400@www.fixtrading.org
SUMMARY:Australia FIX Conference 2024
DESCRIPTION:Join us at the next Australia FIX Trading Community Conference\, on Thursday 17th October 2024.  An essential one-day event that marks a highlight in Australia’s trading calendar. We continue to offer a platform that brings together over 300 key figures from institutional trading in Australia. \nThis year’s conference will feature insightful presentations and panel discussions led by acclaimed leaders in the region\, shedding light on evolving electronic trading trends. You can expect engaging sessions with Australia’s top traders and technologists\, providing foresight into the future of Australia’s markets. \nThe Australia FIX Conference stands as an essential annual event for those involved in electronic trading\, offering prime networking opportunities during breaks\, lunch\, and an exclusive cocktail reception. \nWhether you’re a seasoned trader or a technologist\, anticipate a valuable and enlightening annual gathering of the industry. For FIX Trading Community member firms\, buy-side\, regulators\, and invited guests\, admission to this event is free (Registration and approval are necessary; limits apply). \n\nCLICK HERE FOR FURTHER INFORMATION\n\n 
URL:https://www.fixtrading.org/event/australia2024/
LOCATION:The Fullerton Hotel Sydney\,\, 1 Martin Place\, Sydney\, NSW\, Australia
CATEGORIES:Asia Pac,FIX Event
ATTACH;FMTTYPE=image/jpeg:https://www.fixtrading.org/wp-content/uploads/2022/11/sydney-opera.jpg
ORGANIZER;CN="FIX Trading Community":MAILTO:events@fixtrading.org
GEO:-33.8678447;151.2077854
X-APPLE-STRUCTURED-LOCATION;VALUE=URI;X-ADDRESS=The Fullerton Hotel Sydney 1 Martin Place Sydney NSW Australia;X-APPLE-RADIUS=500;X-TITLE=1 Martin Place\, Sydney:geo:151.2077854,-33.8678447
END:VEVENT
END:VCALENDAR