




BEGIN:VCALENDAR
VERSION:2.0
PRODID:-//FIX Trading Community - ECPv6.3.7//NONSGML v1.0//EN
CALSCALE:GREGORIAN
METHOD:PUBLISH
X-ORIGINAL-URL:https://www.fixtrading.org
X-WR-CALDESC:Events for FIX Trading Community
REFRESH-INTERVAL;VALUE=DURATION:PT1H
X-Robots-Tag:noindex
X-PUBLISHED-TTL:PT1H
BEGIN:VTIMEZONE
TZID:Asia/Hong_Kong
BEGIN:STANDARD
TZOFFSETFROM:+0800
TZOFFSETTO:+0800
TZNAME:HKT
DTSTART:20240101T000000
END:STANDARD
END:VTIMEZONE
BEGIN:VEVENT
DTSTART;TZID=Asia/Hong_Kong:20240725T174500
DTEND;TZID=Asia/Hong_Kong:20240725T194500
DTSTAMP:20260420T215621
CREATED:20240718T121538Z
LAST-MODIFIED:20240724T091828Z
UID:10000179-1721929500-1721936700@www.fixtrading.org
SUMMARY:FIX Trading Community Summer Networking Mixer
DESCRIPTION:Join us in Hong Kong  for the FIX Trading Community Summer Networking Mixer  the perfect opportunity to connect with industry peers\, mingle with new and seasoned professionals\, and toast the second half of the year. \n\nDate:     25th July 2024 (Thursday)\nTime:    5:45pm – 7:45pm\nLocation:    State Street Office (68/F\, IFC 2\, Central\, Hong Kong)\nAttire:   Business Casual\n\n*Please note that registration for this event has now closed.\n\n 
URL:https://www.fixtrading.org/event/summer-networking-mixer/
LOCATION:State Street Office\, 68/F\, IFC 2\, Central\, Hong Kong
CATEGORIES:Asia Pac,FIX Event
ATTACH;FMTTYPE=image/jpeg:https://www.fixtrading.org/wp-content/uploads/2023/11/FIX-Cocktail-Reception-Logo-scaled.jpg
ORGANIZER;CN="FIX Trading Community - Barbara Law":MAILTO:barbara.law@fixtrading.org
GEO:22.3193039;114.1693611
X-APPLE-STRUCTURED-LOCATION;VALUE=URI;X-ADDRESS=State Street Office 68/F IFC 2 Central Hong Kong;X-APPLE-RADIUS=500;X-TITLE=68/F\, IFC 2\, Central\, Hong Kong:geo:114.1693611,22.3193039
END:VEVENT
END:VCALENDAR