




BEGIN:VCALENDAR
VERSION:2.0
PRODID:-//FIX Trading Community - ECPv6.3.7//NONSGML v1.0//EN
CALSCALE:GREGORIAN
METHOD:PUBLISH
X-ORIGINAL-URL:https://www.fixtrading.org
X-WR-CALDESC:Events for FIX Trading Community
REFRESH-INTERVAL;VALUE=DURATION:PT1H
X-Robots-Tag:noindex
X-PUBLISHED-TTL:PT1H
BEGIN:VTIMEZONE
TZID:Asia/Hong_Kong
BEGIN:STANDARD
TZOFFSETFROM:+0800
TZOFFSETTO:+0800
TZNAME:HKT
DTSTART:20240101T000000
END:STANDARD
END:VTIMEZONE
BEGIN:VEVENT
DTSTART;TZID=Asia/Hong_Kong:20240627T170000
DTEND;TZID=Asia/Hong_Kong:20240627T180000
DTSTAMP:20260420T214458
CREATED:20240625T114415Z
LAST-MODIFIED:20240625T153131Z
UID:10000176-1719507600-1719511200@www.fixtrading.org
SUMMARY:Visual FIX API Design: Orchestra Server\, a tool from FIX Trading
DESCRIPTION:The FIX Trading Community’s APAC Technical Subcommittee would like to invite FIX Members to join the “Visual FIX API Design: Orchestra Server\, a tool from FIX Trading” zoom webinar. It will be held on Thursday\, June 27th at 5pm (Hong Kong) / 10am (BST). \nTailored towards FIX professionals working in the following areas: \n\nThe FIX Protocol\nManaging FIX APIs\nManaging FIX connectivity\nOnboarding clients/members/counterparties\nProduct managers designing FIX APIs for new products\n\n   Speaker: \n\nFrancesco Lo Conte\, Co-Chair FIX Orchestra Subcommittee\, FIX Trading Community\, CEO\, Esprow\n\nPlease feel free to refer your colleagues and industry peers who may benefit from this webinar to join us. \n\nREGISTER HERE
URL:https://www.fixtrading.org/event/visualfixapidesign/
LOCATION:Online live webinar
CATEGORIES:Asia Pac,FIX Event
ATTACH;FMTTYPE=image/png:https://www.fixtrading.org/wp-content/uploads/2024/06/Test-4.png
ORGANIZER;CN="FIX Trading Community":MAILTO:events@fixtrading.org
GEO:37.09024;-95.712891
END:VEVENT
END:VCALENDAR