




BEGIN:VCALENDAR
VERSION:2.0
PRODID:-//FIX Trading Community - ECPv6.3.7//NONSGML v1.0//EN
CALSCALE:GREGORIAN
METHOD:PUBLISH
X-WR-CALNAME:FIX Trading Community
X-ORIGINAL-URL:https://www.fixtrading.org
X-WR-CALDESC:Events for FIX Trading Community
REFRESH-INTERVAL;VALUE=DURATION:PT1H
X-Robots-Tag:noindex
X-PUBLISHED-TTL:PT1H
BEGIN:VTIMEZONE
TZID:America/New_York
BEGIN:DAYLIGHT
TZOFFSETFROM:-0500
TZOFFSETTO:-0400
TZNAME:EDT
DTSTART:20240310T070000
END:DAYLIGHT
BEGIN:STANDARD
TZOFFSETFROM:-0400
TZOFFSETTO:-0500
TZNAME:EST
DTSTART:20241103T060000
END:STANDARD
END:VTIMEZONE
BEGIN:VEVENT
DTSTART;TZID=America/New_York:20240611T150000
DTEND;TZID=America/New_York:20240611T183000
DTSTAMP:20260420T214342
CREATED:20240404T090843Z
LAST-MODIFIED:20240604T124053Z
UID:10000116-1718118000-1718130600@www.fixtrading.org
SUMMARY:New York Regional Meeting 2024
DESCRIPTION:The FIX Trading Community invites you to attend the New York Regional Meeting on Tuesday 11th June 2024. \nHosted by Euronext this event will bring together local market participants to discuss the issues and challenges impacting the electronic trading market in the region. \nJoin us from 3:00pm for a late afternoon session consisting of a short presentation and a panel discussion\, followed by networking drinks. \n\nREGISTER HERE\n\n  \n\n\n	\nAgenda\n\n\n3:00pm – Registration and Networking\n3:30pm – Welcome\, Allan Goldstein\, CEO – Euronext Market Services\, Euronext\n3:35pm – FIX Trading Community Update: Jim Kaye\, Executive Director\, FIX Trading Community\, Scott Govoni\, Regional Director\, Americas\, FIX Trading Community\n3:50pm – Panel Discussion-Liquidity Sourcing: \n·       Latest trends in maximizing execution quality\n·       How AI and other technologies are shaping the search for liquidity\n4:45pm – Networking Drinks Reception \n\n\n	\nWhat’s it all about?\n\n\nPanel Discussion-Liquidity Sourcing: \n·       Latest trends in maximizing execution quality\n·       How AI and other technologies are shaping the search for liquidity \n \nHosted by
URL:https://www.fixtrading.org/event/newyorkregional2024/
LOCATION:Euronext New York\, 180 Maiden Lane\, New York\, 10038\, United States
CATEGORIES:Americas,FIX Event
ATTACH;FMTTYPE=image/jpeg:https://www.fixtrading.org/wp-content/uploads/2023/06/Americas-2023-April-scaled.jpg
ORGANIZER;CN="FIX Trading Community":MAILTO:events@fixtrading.org
GEO:40.7052279;-74.0051086
X-APPLE-STRUCTURED-LOCATION;VALUE=URI;X-ADDRESS=Euronext New York 180 Maiden Lane New York 10038 United States;X-APPLE-RADIUS=500;X-TITLE=180 Maiden Lane:geo:-74.0051086,40.7052279
END:VEVENT
END:VCALENDAR