




BEGIN:VCALENDAR
VERSION:2.0
PRODID:-//FIX Trading Community - ECPv6.3.7//NONSGML v1.0//EN
CALSCALE:GREGORIAN
METHOD:PUBLISH
X-ORIGINAL-URL:https://www.fixtrading.org
X-WR-CALDESC:Events for FIX Trading Community
REFRESH-INTERVAL;VALUE=DURATION:PT1H
X-Robots-Tag:noindex
X-PUBLISHED-TTL:PT1H
BEGIN:VTIMEZONE
TZID:Asia/Tokyo
BEGIN:STANDARD
TZOFFSETFROM:+0900
TZOFFSETTO:+0900
TZNAME:JST
DTSTART:20220101T000000
END:STANDARD
END:VTIMEZONE
BEGIN:VEVENT
DTSTART;TZID=Asia/Tokyo:20221118T160000
DTEND;TZID=Asia/Tokyo:20221118T183000
DTSTAMP:20260422T004616
CREATED:20221026T113851Z
LAST-MODIFIED:20221201T103331Z
UID:10000136-1668787200-1668796200@www.fixtrading.org
SUMMARY:Japanese Market Update 2022 – Virtual Japan Regional Meeting
DESCRIPTION:View Event Summary\n\n\n\n\n\n\n\n\n\n\n\n\n\n\n\n\n\n\n\n\n \nFriday 18th November 2022 | 16:00 JST \nJoin us for this virtual webinar event as we provide market participants with an update on what is happening in the Japanese market\, with two back to back panel discussions that will cover: Traditional Financial Markets vs Crypto Asset Markets – Evolving Market Landscape in the Future followed by a look at Best Execution 3.0 – Impact of the Coming Regulatory Change in Japan. \nAGENDA \n16:00 –16:10 | Welcome and Opening Remarks \n16:10 – 17:00 | Panel 1: Traditional Financial Markets vs Crypto Asset Markets – Evolving Market Landscape in the Future \nSpeakers: \n\nHiroshi Matsubara\, Co-Chair Japan Regional Committee\, FIX Trading Community\, Representative\, Pine Grove Research (Moderator)\nHiroshi Kamiwaki\, Chief Crypto Officer\, Fintertech Co. Ltd.\nYoshikazu Abe\, Chief Strategy Officer\, HYPERITHM Co. Ltd.\n\n  \n17:00 – 18:00 | Panel 2: Best Execution 3.0 – Impact of the Coming Regulatory Change in Japan \nSpeakers: \n\nJunya Umeno\, Co-Chair Japan Regional Committee\, FIX Trading Community\, Managing Director\, BlackRock Japan Co. Ltd. (Moderator)\nShuichi Uchida\, General Manager and Head of Trading Department\, Nissay Asset Management Corporation\nKei Okazaki\, Senior Manager\, Head of ETF secondary Trading\, Tokyo Stock Exchange\, Inc.\nTakeya Kamei\, Vice General Manager\, Equities & Derivatives Business Division\, Rakuten Securities\, Inc.\nKaoru Hisaeda\, Head of Business Development\, Cboe Japan Limited\n\n18:00 -18:10 | Closing Remarks \nPlease note that all of the sessions will be held in Japanese language only (no translation will be available) \n\nRegister Here\n\n  \nFIX Trading Community Members\, Buy-Side\, Firms & Regulators – FREE   |   Non-Member Firms – $25+Fees \nPlease note this webinar will be delivered via Zoom.
URL:https://www.fixtrading.org/event/virtualjapanregionalmeeting2022/
LOCATION:Online live webinar
CATEGORIES:Asia Pac,FIX Event
ATTACH;FMTTYPE=image/jpeg:https://www.fixtrading.org/wp-content/uploads/2016/06/Tokyo_780x520px.jpg
ORGANIZER;CN="FIX Trading Community":MAILTO:events@fixtrading.org
GEO:37.09024;-95.712891
END:VEVENT
END:VCALENDAR