




BEGIN:VCALENDAR
VERSION:2.0
PRODID:-//FIX Trading Community - ECPv6.3.7//NONSGML v1.0//EN
CALSCALE:GREGORIAN
METHOD:PUBLISH
X-WR-CALNAME:FIX Trading Community
X-ORIGINAL-URL:https://www.fixtrading.org
X-WR-CALDESC:Events for FIX Trading Community
REFRESH-INTERVAL;VALUE=DURATION:PT1H
X-Robots-Tag:noindex
X-PUBLISHED-TTL:PT1H
BEGIN:VTIMEZONE
TZID:Europe/London
BEGIN:DAYLIGHT
TZOFFSETFROM:+0000
TZOFFSETTO:+0100
TZNAME:BST
DTSTART:20210328T010000
END:DAYLIGHT
BEGIN:STANDARD
TZOFFSETFROM:+0100
TZOFFSETTO:+0000
TZNAME:GMT
DTSTART:20211031T010000
END:STANDARD
END:VTIMEZONE
BEGIN:VEVENT
DTSTART;TZID=Europe/London:20211021T150000
DTEND;TZID=Europe/London:20211021T160000
DTSTAMP:20260422T144250
CREATED:20210727T163039Z
LAST-MODIFIED:20211021T111129Z
UID:10000112-1634828400-1634832000@www.fixtrading.org
SUMMARY:FIX Latest - Technical Update
DESCRIPTION:Welcome to this FIX Trading Community FIXinar\n\n\nThursday 21st October  |  10:00am EDT  |  3:00pm BST \nThe sixth episode of the 2021 Americas FIXinar series will look to cover the recent global developments of FIX\, especially the releases of FIX Latest and FIX Orchestra earlier this year. \nSignificant concerns regarding interoperability cause many firms to see no need to upgrade from their existing version of FIX\, but they rely on a significant degree of customization instead. What are the consequences of doing this? Join our panel of experts to find out. \nAhead of the panel discussion\, Hanno Klein\, Global Technical Committee (GTC) Co-Chair\, EMEA Region\, will give a short presentation on FIX Latest\, FIX Orchestra and related tools. The topics to be discussed include: \n\nIs FIX Latest a version or a concept? Why FIX Latest is the sustainable Protocol of the future and not a new version;\nIs interoperability about the session or the application layer?\nWhat is the importance of machine-readable Rules of Engagement and how can this revolutionize your development\, support costs and timescales?\nIs there a problem of customization and technical debt?\nIs the enforcement of FIX compliance really an option?\nWhat is the role of the FIX organization regarding the provision of development and support tools?\n\n\n\n\n\n\n\n\n\n\n\n\n\n\n\n\n\n\n\n	\n	Brian Driscoll\nBrian Driscoll\, Americas Co-chair Global Technical Committee\, FIX Trading Community\, Head of NYFIX Development\, Itiviti Bio: Software developer/entrepreneur involved in... \n\n	\n\n\n\n\n\n\n\n	\n	Brian Lees\nBrian Lees\, Co-Chair Global Buy-side Working Group\, FIX Trading Community\, AVP\, Manager\, Equity Trading Product Owner\, Capital Group Brian Lees... \n\n	\n\n\n\n\n\n\n\n	\n	Hanno Klein	\n\n\n\n\n\n\n\n	\n	Lisa Taikitsadaporn\nLisa Taikitsadaporn\, Technical Program Manager\, FIX Trading Community\, Managing Partner\, Brook Path Partners\, Inc. Ms. Taikitsadaporn has over 20 years... \n\n	\n\n\n\n\n\n\n\n\n\n\n\n\n\n\n\n\n\nRegister Here\n\n  \nPlease note this webinar will be delivered via Zoom. \n\n\nFIX Trading Community Member Firms – FREE   |   Non-Member Firms – $25 + Fees  \nTo request a media pass\, please email events@fixtrading.org 
URL:https://www.fixtrading.org/event/usfixlatest2021/
LOCATION:Online live webinar
CATEGORIES:Americas,FIX Event
ORGANIZER;CN="FIX Trading Community":MAILTO:events@fixtrading.org
GEO:37.09024;-95.712891
END:VEVENT
END:VCALENDAR