




BEGIN:VCALENDAR
VERSION:2.0
PRODID:-//FIX Trading Community - ECPv6.3.7//NONSGML v1.0//EN
CALSCALE:GREGORIAN
METHOD:PUBLISH
X-ORIGINAL-URL:https://www.fixtrading.org
X-WR-CALDESC:Events for FIX Trading Community
REFRESH-INTERVAL;VALUE=DURATION:PT1H
X-Robots-Tag:noindex
X-PUBLISHED-TTL:PT1H
BEGIN:VTIMEZONE
TZID:Europe/Stockholm
BEGIN:DAYLIGHT
TZOFFSETFROM:+0100
TZOFFSETTO:+0200
TZNAME:CEST
DTSTART:20250330T010000
END:DAYLIGHT
BEGIN:STANDARD
TZOFFSETFROM:+0200
TZOFFSETTO:+0100
TZNAME:CET
DTSTART:20251026T010000
END:STANDARD
TZID:America/New_York
BEGIN:DAYLIGHT
TZOFFSETFROM:-0500
TZOFFSETTO:-0400
TZNAME:EDT
DTSTART:20250309T070000
END:DAYLIGHT
BEGIN:STANDARD
TZOFFSETFROM:-0400
TZOFFSETTO:-0500
TZNAME:EST
DTSTART:20251102T060000
END:STANDARD
END:VTIMEZONE
BEGIN:VEVENT
DTSTART;VALUE=DATE:20250603
DTEND;VALUE=DATE:20250604
DTSTAMP:20260420T065600
CREATED:20241007T231153Z
LAST-MODIFIED:20250623T092729Z
UID:10000190-1748908800-1748995199@www.fixtrading.org
SUMMARY:Nordic Trading Conference 2025
DESCRIPTION:Since 2010\, the Nordic Trading Conference\, organised by FIX Trading Community\, has been the most important trading event held in the region. FIX events are formulated 100% by senior representatives of firms active in each region. The Nordic Trading Conference is noted for the region’s highest quality speakers\, topical issues and for being a neutral platform for the institutional trading industry to meet and discuss industry best practice\, including details on trading community implementations. \n\nVIEW PICTURES FROM THE NORDIC TRADING CONFERENCE\n\n\n\n	\nLead Sponsor\n\n\n  \n \n 
URL:https://www.fixtrading.org/event/nordic2025/
LOCATION:Hotel At Six\, Stockholm\, Brunkebergstorg 6\, Stockholm\, 111 51\, Sweden
CATEGORIES:EMEA,FIX Event
ATTACH;FMTTYPE=image/jpeg:https://www.fixtrading.org/wp-content/uploads/2024/10/shutterstock_715845364-scaled.jpg
ORGANIZER;CN="FIX Trading Community":MAILTO:events@fixtrading.org
GEO:59.3309512;18.0670612
X-APPLE-STRUCTURED-LOCATION;VALUE=URI;X-ADDRESS=Hotel At Six Stockholm Brunkebergstorg 6 Stockholm 111 51 Sweden;X-APPLE-RADIUS=500;X-TITLE=Brunkebergstorg 6:geo:18.0670612,59.3309512
END:VEVENT
BEGIN:VEVENT
DTSTART;TZID=America/New_York:20250612T160000
DTEND;TZID=America/New_York:20250612T190000
DTSTAMP:20260420T065600
CREATED:20250317T154615Z
LAST-MODIFIED:20250624T152102Z
UID:10000198-1749744000-1749754800@www.fixtrading.org
SUMMARY:Boston Regional Meeting 2025
DESCRIPTION:The FIX Trading Community invites you to attend the Boston Regional Meeting on Thursday 12th June 2025. \nHosted by State Street this event will bring together local market participants to discuss the issues and challenges impacting the electronic trading market in the region. Join us from 4:00pm for an afternoon of panel discussions\, followed by networking drinks. \nPanel topics include: \n\nNavigating the Evolving OMS/EMS Landscape\n\nAs the OMS/EMS ecosystem undergoes rapid transformation\, our expert panel will explore the key forces reshaping the industry — from consolidation and innovation to the increasing demand for integrated\, scalable\, and multi-asset solutions. \n\nWhat’s Next for Multi-Asset Trading Systems?\n\nAs market structure\, asset classes\, and technology continue to converge\, the demand for truly integrated multi-asset trading systems is growing — but is the industry ready to deliver? This panel brings together experts to explore the future of cross-asset platforms\, the challenges of unifying workflows across asset classes\, and the innovations shaping next-generation trading infrastructure. \n\nVIEW PICTURES FROM THE BOSTON REGIONAL MEETING\n\n\nREGISTER HERE\n\n  \n\n\n	\nAgenda\n\n\n4:00pm – Registration and Networking \n4:30pm – Opening Remarks & Host Welcome Remarks \n \n4:40pm – Navigating the Evolving OMS/EMS Landscape \n \n5:20pm – What’s Next for Multi-Asset Trading Systems?\n \n \n6:00 – 7:00pm – Networking Drinks Reception \nHosted by
URL:https://www.fixtrading.org/event/bostonregional2025/
LOCATION:State Street\, Boston\, Floor 12\, One Congress Street\, Boston\, MA 02114\, United States
CATEGORIES:Americas,FIX Event
ATTACH;FMTTYPE=image/png:https://www.fixtrading.org/wp-content/uploads/2025/03/State-Street-FINAL.png
ORGANIZER;CN="FIX Trading Community":MAILTO:events@fixtrading.org
GEO:42.3614128;-71.0576864
X-APPLE-STRUCTURED-LOCATION;VALUE=URI;X-ADDRESS=State Street Boston Floor 12 One Congress Street Boston MA 02114 United States;X-APPLE-RADIUS=500;X-TITLE=Floor 12\, One Congress Street:geo:-71.0576864,42.3614128
END:VEVENT
END:VCALENDAR