




BEGIN:VCALENDAR
VERSION:2.0
PRODID:-//FIX Trading Community - ECPv6.3.7//NONSGML v1.0//EN
CALSCALE:GREGORIAN
METHOD:PUBLISH
X-WR-CALNAME:FIX Trading Community
X-ORIGINAL-URL:https://www.fixtrading.org
X-WR-CALDESC:Events for FIX Trading Community
REFRESH-INTERVAL;VALUE=DURATION:PT1H
X-Robots-Tag:noindex
X-PUBLISHED-TTL:PT1H
BEGIN:VTIMEZONE
TZID:America/New_York
BEGIN:DAYLIGHT
TZOFFSETFROM:-0500
TZOFFSETTO:-0400
TZNAME:EDT
DTSTART:20250309T070000
END:DAYLIGHT
BEGIN:STANDARD
TZOFFSETFROM:-0400
TZOFFSETTO:-0500
TZNAME:EST
DTSTART:20251102T060000
END:STANDARD
END:VTIMEZONE
BEGIN:VEVENT
DTSTART;TZID=America/New_York:20250123T150000
DTEND;TZID=America/New_York:20250123T183000
DTSTAMP:20260420T124550
CREATED:20241115T142824Z
LAST-MODIFIED:20250123T190907Z
UID:10000192-1737644400-1737657000@www.fixtrading.org
SUMMARY:New York Regional Meeting 2025
DESCRIPTION:The FIX Trading Community warmly invites you to join the New York Regional Meeting on Thursday 23rd January 2025. \nKindly hosted by Accenture\, and co-sponsored by Women In FIX\, this event will bring together local market participants to discuss key issues and challenges shaping the region’s electronic trading landscape. The event will begin at 3:00pm\, followed by a networking reception where you can connect with peers. \nTopics include: \nModernizing Legacy Trading Systems: Strategies for Transformation and Future Growth\n– How upgrading platforms can improve trade execution quality and reduce latency.\n– Addressing the growing need for multi-asset and cross-venue trading capabilities. \nWomen In FIX: Celebrating Their Journeys and Impact on the Evolution of Electronic Trading\n– Empowering women in electronic trading\n– Navigating challenges and opportunities \n\nREGISTER HERE\n\n  \n\n\n	\nAgenda\n\n\n3:00pm – Registration and Networking \n3:30pm – Opening Remarks \n \n3:35pm – Host Welcome \n \n3:40pm – Panel Discussion – Modernizing Legacy Trading Systems \n \n4:20pm – Panel Discussion – Women In FIX \n \n5:00pm – Networking Drinks Reception \nHosted by
URL:https://www.fixtrading.org/event/newyorkregional2025/
LOCATION:Accenture\, One Manhattan West\, 395 9th Avenue\, New York\, NY 10001
CATEGORIES:Americas,FIX Event
ATTACH;FMTTYPE=image/jpeg:https://www.fixtrading.org/wp-content/uploads/2024/11/pexels-yugandhar-bonde-322131-3680131-scaled.jpg
ORGANIZER;CN="FIX Trading Community":MAILTO:events@fixtrading.org
GEO:40.7528848;-73.9975259
X-APPLE-STRUCTURED-LOCATION;VALUE=URI;X-ADDRESS=Accenture One Manhattan West 395 9th Avenue New York NY 10001;X-APPLE-RADIUS=500;X-TITLE=One Manhattan West\, 395 9th Avenue:geo:-73.9975259,40.7528848
END:VEVENT
END:VCALENDAR