




BEGIN:VCALENDAR
VERSION:2.0
PRODID:-//FIX Trading Community - ECPv6.3.7//NONSGML v1.0//EN
CALSCALE:GREGORIAN
METHOD:PUBLISH
X-ORIGINAL-URL:https://www.fixtrading.org
X-WR-CALDESC:Events for FIX Trading Community
REFRESH-INTERVAL;VALUE=DURATION:PT1H
X-Robots-Tag:noindex
X-PUBLISHED-TTL:PT1H
BEGIN:VTIMEZONE
TZID:Asia/Shanghai
BEGIN:STANDARD
TZOFFSETFROM:+0800
TZOFFSETTO:+0800
TZNAME:CST
DTSTART:20230101T000000
END:STANDARD
TZID:Europe/Stockholm
BEGIN:DAYLIGHT
TZOFFSETFROM:+0100
TZOFFSETTO:+0200
TZNAME:CEST
DTSTART:20230326T010000
END:DAYLIGHT
BEGIN:STANDARD
TZOFFSETFROM:+0200
TZOFFSETTO:+0100
TZNAME:CET
DTSTART:20231029T010000
END:STANDARD
END:VTIMEZONE
BEGIN:VEVENT
DTSTART;VALUE=DATE:20230511
DTEND;VALUE=DATE:20230512
DTSTAMP:20260421T170455
CREATED:20221215T125209Z
LAST-MODIFIED:20230330T092247Z
UID:10000138-1683763200-1683849599@www.fixtrading.org
SUMMARY:21st Asia Pacific Trading Summit
DESCRIPTION:Welcome to the 21st Asia Pacific Trading Summit \nThis flagship event of FIX will be held in physical format. Delegates who are unable to travel to Hong Kong will still be able to participate because the session will be live webcast too. \nSponsorship opportunities are available for this event\, you can view them by clicking the button below: \n\nVIEW SPONSORSHIP OPPORTUNITIES\n\n  \nFind out all the information about this event here: 21st Asia Pacific Trading Summit
URL:https://www.fixtrading.org/event/asia-pacific-trading-summit-2023/
LOCATION:JW Marriott\, One Pacific Place\, 88 Queensway\, Hong Kong\, China
CATEGORIES:FIX Event
ATTACH;FMTTYPE=image/jpeg:https://www.fixtrading.org/wp-content/uploads/2022/12/hong-kong-1990268_960_720.jpg
ORGANIZER;CN="FIX Trading Community":MAILTO:events@fixtrading.org
GEO:22.2776447;114.1653936
X-APPLE-STRUCTURED-LOCATION;VALUE=URI;X-ADDRESS=JW Marriott One Pacific Place 88 Queensway Hong Kong China;X-APPLE-RADIUS=500;X-TITLE=One Pacific Place\, 88 Queensway:geo:114.1653936,22.2776447
END:VEVENT
BEGIN:VEVENT
DTSTART;TZID=Europe/Stockholm:20230523T090000
DTEND;TZID=Europe/Stockholm:20230523T180000
DTSTAMP:20260421T170455
CREATED:20230127T143142Z
LAST-MODIFIED:20230330T101942Z
UID:10000141-1684832400-1684864800@www.fixtrading.org
SUMMARY:Nordic Trading Conference 2023
DESCRIPTION:Since 2010\, the Nordic Trading Conference\, organised by FIX Trading Community\, has been the most important trading event held in the region. FIX events are formulated 100% by senior representatives of firms active in each region. The Nordic Trading Conference is noted for the region’s highest quality speakers\, topical issues and for being a neutral platform for the institutional trading industry to meet and discuss industry best practice\, including details on trading community implementations. \n\n\n	\nLead Sponsor
URL:https://www.fixtrading.org/event/nordic2023/
LOCATION:Hotel At Six\, Stockholm\, Brunkebergstorg 6\, Stockholm\, 111 51\, Sweden
CATEGORIES:EMEA,FIX Event
ATTACH;FMTTYPE=image/jpeg:https://www.fixtrading.org/wp-content/uploads/2023/01/Stockholm-Cropped.jpg
ORGANIZER;CN="FIX Trading Community":MAILTO:events@fixtrading.org
GEO:59.3309512;18.0670612
X-APPLE-STRUCTURED-LOCATION;VALUE=URI;X-ADDRESS=Hotel At Six Stockholm Brunkebergstorg 6 Stockholm 111 51 Sweden;X-APPLE-RADIUS=500;X-TITLE=Brunkebergstorg 6:geo:18.0670612,59.3309512
END:VEVENT
END:VCALENDAR