




BEGIN:VCALENDAR
VERSION:2.0
PRODID:-//FIX Trading Community - ECPv6.3.7//NONSGML v1.0//EN
CALSCALE:GREGORIAN
METHOD:PUBLISH
X-WR-CALNAME:FIX Trading Community
X-ORIGINAL-URL:https://www.fixtrading.org
X-WR-CALDESC:Events for FIX Trading Community
REFRESH-INTERVAL;VALUE=DURATION:PT1H
X-Robots-Tag:noindex
X-PUBLISHED-TTL:PT1H
BEGIN:VTIMEZONE
TZID:America/New_York
BEGIN:DAYLIGHT
TZOFFSETFROM:-0500
TZOFFSETTO:-0400
TZNAME:EDT
DTSTART:20220313T070000
END:DAYLIGHT
BEGIN:STANDARD
TZOFFSETFROM:-0400
TZOFFSETTO:-0500
TZNAME:EST
DTSTART:20221106T060000
END:STANDARD
END:VTIMEZONE
BEGIN:VEVENT
DTSTART;TZID=America/New_York:20220426T100000
DTEND;TZID=America/New_York:20220426T110000
DTSTAMP:20260422T063714
CREATED:20220208T152657Z
LAST-MODIFIED:20220601T110859Z
UID:10000124-1650967200-1650970800@www.fixtrading.org
SUMMARY:Crypto & Digital Assets FIXinar
DESCRIPTION:Welcome to this FIX Trading Community FIXinar\n\n\nView Event Summary\n\n  \nTuesday 26th April  | 10.00 EDT  |  15:00 BST \nJoin our stellar line-up of speakers for the first FIXinar in the 2022 Americas FIXinar Series. The first topic is one that needs no introduction\, as its evolution is fast-paced and is set to be a part of the future of our industry. \nThis FIXinar will look at current crypto and digital asset topics that the industry is debating across the asset classes. With an engaging and interactive panel\, this is a webinar you can’t afford to miss! \nThis panel session will cover: \n\nHow can I start trading crypto\, what tools are needed and what is FIX’s role?\nAdapting your pricing models.\nDoes crypto trade the same way as bonds and equities?\nMigrating from retail to institutional.\nCompliance – how to trade within the lines?\nHow will my post-trade processing work? Will it differ to that of traditional derivatives or futures trades?\nWhat are the processing times?\nPlus\, much more!\n\n\nFIX Trading Community Members\, Buy-Side\, Crypto Firms & Regulators – FREE   |   Non-Member Firms – $25+Fees \nTo request a media pass\, please email events@fixtrading.org  \nPlease note this webinar will be delivered via Zoom. \n\n\n\n\n\n\n\n\n\n\n\n\n\n\n\n\n\n\n	\n	Basu Choudhury\nBasu Choudhury\, Head of Partnerships and Strategic Initiatives\, OSTTRA FX & Securities With over twenty years’ experience in business\, technology\,... \n\n	\n\n\n\n\n\n\n\n	\n	Élodie De Marchi\nÉlodie De Marchi\, Head of Operations & Strategy\, Kaiko Élodie is currently Head of Operations & Strategy at Kaiko\, the... \n\n	\n\n\n\n\n\n\n\n	\n	Jim Kaye\nJim Kaye\, Executive Director\, FIX Trading Community Jim has worked in the financial industry for 25 years\, mostly in equities... \n\n	\n\n\n\n\n\n\n\n	\n	Sean Ristau\nSean Ristau\, EVP\, Strategic Business Development\, Prime Trust Sean is the EVP of Strategic Business Development at Prime Trust\, LLC.... \n\n	\n\n\n\n\n\n\n\n	\n	Serg Gulko\nSerg Gulko\, CEO\, Axon Trade He focuses on building and managing platform that utilizes FIX protocol to stream market data...
URL:https://www.fixtrading.org/event/uscrypto2022/
LOCATION:Online live webinar
CATEGORIES:Americas,FIX Event
ORGANIZER;CN="FIX Trading Community":MAILTO:events@fixtrading.org
GEO:37.09024;-95.712891
END:VEVENT
END:VCALENDAR