




BEGIN:VCALENDAR
VERSION:2.0
PRODID:-//FIX Trading Community - ECPv6.3.7//NONSGML v1.0//EN
CALSCALE:GREGORIAN
METHOD:PUBLISH
X-WR-CALNAME:FIX Trading Community
X-ORIGINAL-URL:https://www.fixtrading.org
X-WR-CALDESC:Events for FIX Trading Community
REFRESH-INTERVAL;VALUE=DURATION:PT1H
X-Robots-Tag:noindex
X-PUBLISHED-TTL:PT1H
BEGIN:VTIMEZONE
TZID:America/New_York
BEGIN:DAYLIGHT
TZOFFSETFROM:-0500
TZOFFSETTO:-0400
TZNAME:EDT
DTSTART:20210314T070000
END:DAYLIGHT
BEGIN:STANDARD
TZOFFSETFROM:-0400
TZOFFSETTO:-0500
TZNAME:EST
DTSTART:20211107T060000
END:STANDARD
END:VTIMEZONE
BEGIN:VEVENT
DTSTART;TZID=America/New_York:20211202T100000
DTEND;TZID=America/New_York:20211202T110000
DTSTAMP:20260422T111224
CREATED:20211021T103104Z
LAST-MODIFIED:20211123T154840Z
UID:10000121-1638439200-1638442800@www.fixtrading.org
SUMMARY:Future of Automated Trading
DESCRIPTION:Welcome to this FIX Trading Community FIXinar\n\n\nThursday 2nd December  |  10:00am EST  |  3:00pm GMT \nJoin this live webinar\, which will be the 7th and final episode of the 2021 Americas FIXinar Series\, to learn more on how automated trading has evolved\, what the impact is for each asset class and how we can ensure a transparent workflow. Our expert line up of panellists will look to cover the following and more! \n\nBuy-side case study of what they have done to automate workflow over the years\nPortfolio construction down to the trade desk evaluation\nMulti-asset trading and the upskilling of the modern trader\nEstablishing multi-FIX connections venues\, to aggregate real-time feeds for workflows\nMulti-automation\, data lakes and how the FIX connection feeds in\nAlgo wheels\nDecision support and getting the best from your data\n\n\n\n\n\n\n\n\n\n\n\n\n\n\n\nRegister Here\n\n\n\n\n\n	\n	Jim Kaye\nJim Kaye\, Executive Director\, FIX Trading Community Jim has worked in the financial industry for 25 years\, mostly in equities... \n\n	\n\n\n\n\n\n\n\n	\n	Enrico Cacciatore\nEnrico Cacciatore\, Senior Quantitative Trader\, Head of Market Structure and Trading Analytics\, Voya Investment Management Enrico manages trading for the... \n\n	\n\n\n\n\n\n\n\n	\n	Denis Imaev\nDenis Imaev\, Managing Director\, Head of Algorithmic Trading Development\, Cantor Fitzgerald Denis Imaev has led Cantor Fitzgerald’s algorithmic trading development... \n\n	\n\n\n\n\n\n\n\n\n\n	\n	George Kledaras\nGeorge Kledaras\, Principal Owner\, Limni Trading George Kledaras is a serial FinTech entrepreneur in trading systems and networks. George started... \n\n	\n\n\n\n\n\n\n\n	\n	Ashley Kryshtalsky\nAshley Kryshtalsky\, Global Head of Product\, Workflow Technology\, Virtu Financial Ashley Kryshtalsky is the Global Head of Product on Virtu... \n\n	\n\n\n\n\n\n\n\n	\n	Mark Watters\nMark Watters\, Co-Founder and Chief Commercial Officer\, AxeTrading Before co-founding AxeTrading\, Mark had over 17 years’ experience at Bloomberg\, including... \n\n	\n\n\n\n\n\n\n\n\n\n\n\n\n\n\n\n\n\n  \nPlease note this webinar will be delivered via Zoom. \n\n\nFIX Trading Community Member Firms – FREE   |   Non-Member Firms – $25 + Fees  \nTo request a media pass\, please email events@fixtrading.org 
URL:https://www.fixtrading.org/event/ustradingautomation2021/
LOCATION:Online live webinar
CATEGORIES:Americas,FIX Event
ORGANIZER;CN="FIX Trading Community":MAILTO:events@fixtrading.org
GEO:37.09024;-95.712891
END:VEVENT
END:VCALENDAR