




BEGIN:VCALENDAR
VERSION:2.0
PRODID:-//FIX Trading Community - ECPv6.3.7//NONSGML v1.0//EN
CALSCALE:GREGORIAN
METHOD:PUBLISH
X-ORIGINAL-URL:https://www.fixtrading.org
X-WR-CALDESC:Events for FIX Trading Community
REFRESH-INTERVAL;VALUE=DURATION:PT1H
X-Robots-Tag:noindex
X-PUBLISHED-TTL:PT1H
BEGIN:VTIMEZONE
TZID:Europe/London
BEGIN:DAYLIGHT
TZOFFSETFROM:+0000
TZOFFSETTO:+0100
TZNAME:BST
DTSTART:20260329T010000
END:DAYLIGHT
BEGIN:STANDARD
TZOFFSETFROM:+0100
TZOFFSETTO:+0000
TZNAME:GMT
DTSTART:20261025T010000
END:STANDARD
END:VTIMEZONE
BEGIN:VEVENT
DTSTART;TZID=Europe/London:20260203T173000
DTEND;TZID=Europe/London:20260203T200000
DTSTAMP:20260424T154450
CREATED:20251217T150325Z
LAST-MODIFIED:20260203T065856Z
UID:10000222-1770139800-1770148800@www.fixtrading.org
SUMMARY:FIX NextGen Connect
DESCRIPTION:REGISTER HERE\n\n  \nThe FIX Trading Community and EMEA Next Generation Steering Committee would like to invite members to join us on Tuesday 3rd February for the next session in the FIX NextGen event series\, hosted by Euronext in London. \nPlease join us for an engaging panel discussion on “The Education Gap: Informed\, Invested\, Influenced”\, where members of the NextGen Steering Committee will explore financial education and the role of influencers and social media. Does this trend help close the education gap or create new risks? \nThe panel discussion will be followed by networking drinks\, providing the opportunity to connect with peers from the NextGen community. \nBoth members of the FIX Trading Community and Buy-Side firms are welcome to attend. This event is tailored for the Next Generation\, with registration aimed at individuals with less than 10 years of industry experience. We encourage you to invite new starters in your firm to join and learn more about the FIX Trading Community in an informal atmosphere while networking with peers. Limited spaces available\, secure your free place via the registration button below. \nSpeakers include: \n \n\nREGISTER HERE\n\n\n  \nHosted by
URL:https://www.fixtrading.org/event/fix-nextgen-connect/
LOCATION:Euronext\, 11th floor\, CARGO Building\, 25 North Colonnade\, Canary Wharf\, London\,\, E14 5HS
CATEGORIES:EMEA,FIX Event
ATTACH;FMTTYPE=image/png:https://www.fixtrading.org/wp-content/uploads/2025/12/NextGen-Feb-2026.png
ORGANIZER;CN="FIX Trading Community":MAILTO:events@fixtrading.org
GEO:51.505775;-0.0200398
X-APPLE-STRUCTURED-LOCATION;VALUE=URI;X-ADDRESS=Euronext 11th floor CARGO Building 25 North Colonnade Canary Wharf London E14 5HS;X-APPLE-RADIUS=500;X-TITLE=11th floor\, CARGO Building:geo:-0.0200398,51.505775
END:VEVENT
BEGIN:VEVENT
DTSTART;VALUE=DATE:20260305
DTEND;VALUE=DATE:20260306
DTSTAMP:20260424T154450
CREATED:20250612T084125Z
LAST-MODIFIED:20260220T094246Z
UID:10000207-1772668800-1772755199@www.fixtrading.org
SUMMARY:EMEA Trading Conference 2026
DESCRIPTION:Returning for its 18th year\, the EMEA Trading Conference is Europe’s largest one-day trading event. \nProduced by the FIX Trading Community\, the non-profit\, industry standards organisation at the heart of the global trading community\, the event is formulated 100% by senior representatives of firms active across the EMEA region. \nAs with all FIX events\, this conference is known for its high-quality speakers\, topical issues under debate and being a neutral platform for market participants\, policy makers and regulators to interact and discuss issues and ideas. \nThe FIX Trading Community is CPD-accredited – time attended at conference sessions can be awarded CPD hours. \nThis year we are exploring life at the edge of change – from regulation to technology to market design – and what it means to all of us as practitioners and individuals. \nPlenary stream highlights: \n\nOur annual regulatory panel with policymakers from across the region\nEquity markets and liquidity\nTokenisation and the path to T+0\nAI and other technologies and their impact on the industry\nManaging teams at the edge of change\n\nAdditional focus sessions: \n\nFixed income focus stream – three sessions dedicated to practical issues in the fixed income markets\nTechnical deep-dives – covering the latest innovations in FIX standards from our in-house team and experts from our membership\nAI innovation round tables – where selected solution providers can educate on how they use AI to solve practical issues and multiply productivity\nPlus our invite-only buy side breakfast\n\n 
URL:https://www.fixtrading.org/event/emea2026/
LOCATION:Convene Sancroft St. Paul’s\, Paternoster Sq.\, London EC4M 7DQ
CATEGORIES:EMEA,FIX Event
ATTACH;FMTTYPE=image/jpeg:https://www.fixtrading.org/wp-content/uploads/2025/03/EMEA-2026-Website.jpg
ORGANIZER;CN="FIX Trading Community":MAILTO:events@fixtrading.org
GEO:51.5150431;-0.0996613
X-APPLE-STRUCTURED-LOCATION;VALUE=URI;X-ADDRESS=Convene Sancroft St. Paul’s Paternoster Sq. London EC4M 7DQ;X-APPLE-RADIUS=500;X-TITLE=Paternoster Sq.\, London EC4M 7DQ:geo:-0.0996613,51.5150431
END:VEVENT
END:VCALENDAR