




BEGIN:VCALENDAR
VERSION:2.0
PRODID:-//FIX Trading Community - ECPv6.3.7//NONSGML v1.0//EN
CALSCALE:GREGORIAN
METHOD:PUBLISH
X-ORIGINAL-URL:https://www.fixtrading.org
X-WR-CALDESC:Events for FIX Trading Community
REFRESH-INTERVAL;VALUE=DURATION:PT1H
X-Robots-Tag:noindex
X-PUBLISHED-TTL:PT1H
BEGIN:VTIMEZONE
TZID:Asia/Kolkata
BEGIN:STANDARD
TZOFFSETFROM:+0530
TZOFFSETTO:+0530
TZNAME:IST
DTSTART:20260101T000000
END:STANDARD
TZID:Asia/Hong_Kong
BEGIN:STANDARD
TZOFFSETFROM:+0800
TZOFFSETTO:+0800
TZNAME:HKT
DTSTART:20260101T000000
END:STANDARD
END:VTIMEZONE
BEGIN:VEVENT
DTSTART;TZID=Asia/Kolkata:20260409T090000
DTEND;TZID=Asia/Kolkata:20260409T173000
DTSTAMP:20260422T005237
CREATED:20260114T073503Z
LAST-MODIFIED:20260114T075653Z
UID:10000223-1775725200-1775755800@www.fixtrading.org
SUMMARY:India FIX Conference 2026
DESCRIPTION:Where a Rapidly Evolving Market Comes Together\nIndia’s institutional trading landscape continues to evolve at pace. As participation deepens and markets grow in scale and sophistication\, a series of ongoing changes in market structure\, regulation and technology are collectively reshaping how trading is conducted and how firms engage with the market. \nThe India FIX Conference provides a dedicated forum to examine this evolution from both a domestic and global perspective. As the annual gathering for India’s electronic trading community\, it brings together senior leaders from buy-side and sell-side firms\, exchanges\, regulators and technology providers to discuss how the market is changing\, and what those changes mean in practice. \nHosted by the FIX Trading Community\, the conference is firmly grounded in real market experience. The programme is curated by industry practitioners and places strong emphasis on technological development alongside market and regulatory evolution. Alongside strong domestic participation\, the event also attracts global firms with active interest in India’s markets\, creating a balanced exchange of local insight and international perspective. \nFor many participants\, the India FIX Conference is the one time each year when the full trading ecosystem comes together in one place. It provides a forum to compare approaches\, surface practical challenges and align on how the market continues to evolve\, informed by both domestic experience and global perspectives. \nAs India’s markets continue to mature and expand in complexity\, the India FIX Conference plays a critical role in helping the community stay informed\, connected and forward-looking\, offering insight into where the market is heading and how firms can engage with it effectively. \nAttendance is complimentary for FIX Trading Community members\, buy-side firms\, regulators and invited guests\, subject to registration and confirmation.
URL:https://www.fixtrading.org/event/india-fix-conference-2026/
LOCATION:Imperial Hall & Pallazzio The St. Regis Mumbai\, 462\, Senapati Bapat Marg\, Lower Parel\,\, Mumbai\, Maharashtra\, 400013\, India
CATEGORIES:Asia Pac,FIX Event
ATTACH;FMTTYPE=image/png:https://www.fixtrading.org/wp-content/uploads/2026/01/Mumbai_Tile_ForFPL.png
ORGANIZER;CN="FIX Trading Community - Barbara Law":MAILTO:barbara.law@fixtrading.org
GEO:18.9940532;72.8241298
X-APPLE-STRUCTURED-LOCATION;VALUE=URI;X-ADDRESS=Imperial Hall & Pallazzio The St. Regis Mumbai 462 Senapati Bapat Marg Lower Parel Mumbai Maharashtra 400013 India;X-APPLE-RADIUS=500;X-TITLE=462\, Senapati Bapat Marg\, Lower Parel\,:geo:72.8241298,18.9940532
END:VEVENT
BEGIN:VEVENT
DTSTART;TZID=Asia/Hong_Kong:20260514T090000
DTEND;TZID=Asia/Hong_Kong:20260514T170000
DTSTAMP:20260422T005237
CREATED:20260114T074053Z
LAST-MODIFIED:20260114T075752Z
UID:10000224-1778749200-1778778000@www.fixtrading.org
SUMMARY:24th Asia Pacific Trading Summit
DESCRIPTION:Where the Global Trading Community Meets at the Edge of Change\nEach year\, as markets continue to evolve in subtle but consequential ways\, the Asia Pacific Trading Summit in Hong Kong marks a moment for the industry to pause\, reconnect and look ahead. \nAs the flagship event of the Asia Pacific FIX Conference series\, the Summit has become a true meeting point for the global institutional trading community. While rooted in Asia-Pacific market dynamics\, it consistently attracts senior participants from Asia\, Europe\, the US and beyond. \nNow in its 24th year\, the Summit brings together the industry to explore how ongoing change is reshaping market structure\, trading practices and workflows. The focus is not on isolated trends\, but on how multiple shifts are intersecting\, and what that means for firms operating across markets and asset classes. The event combines forward-looking discussion with a distinctive atmosphere that regular attendees recognise immediately. Conversations continue well beyond the main sessions\, through closed-door discussions and informal exchanges throughout the day. \nWhat truly sets the Hong Kong Summit apart\, however\, is its sense of occasion. For many in the community\, it is a once-a-year meeting point\, a rare opportunity to reconnect with peers from across regions\, renew relationships and exchange perspectives face to face. The day culminates in the Summit’s renowned cocktail reception\, known for its lively crowd\, open conversations and enduring connections. \nFor professionals navigating change in institutional trading\, the Asia Pacific Trading Summit remains an essential forum\, not only for insight and perspective\, but for the relationships that help shape what comes next. \nAttendance is complimentary for FIX Trading Community members\, buy-side firms\, regulators and invited guests\, subject to registration and confirmation.
URL:https://www.fixtrading.org/event/24th-asia-pacific-trading-summit/
LOCATION:JW Marriott\, One Pacific Place\, 88 Queensway\, Hong Kong\, China
CATEGORIES:Asia Pac,FIX Event
ATTACH;FMTTYPE=image/png:https://www.fixtrading.org/wp-content/uploads/2026/01/HK_TileForFPL.png
ORGANIZER;CN="FIX Trading Community - Barbara Law":MAILTO:barbara.law@fixtrading.org
GEO:22.2776447;114.1653936
X-APPLE-STRUCTURED-LOCATION;VALUE=URI;X-ADDRESS=JW Marriott One Pacific Place 88 Queensway Hong Kong China;X-APPLE-RADIUS=500;X-TITLE=One Pacific Place\, 88 Queensway:geo:114.1653936,22.2776447
END:VEVENT
END:VCALENDAR