




BEGIN:VCALENDAR
VERSION:2.0
PRODID:-//FIX Trading Community - ECPv6.3.7//NONSGML v1.0//EN
CALSCALE:GREGORIAN
METHOD:PUBLISH
X-WR-CALNAME:FIX Trading Community
X-ORIGINAL-URL:https://www.fixtrading.org
X-WR-CALDESC:Events for FIX Trading Community
REFRESH-INTERVAL;VALUE=DURATION:PT1H
X-Robots-Tag:noindex
X-PUBLISHED-TTL:PT1H
BEGIN:VTIMEZONE
TZID:Asia/Kolkata
BEGIN:STANDARD
TZOFFSETFROM:+0530
TZOFFSETTO:+0530
TZNAME:IST
DTSTART:20230101T000000
END:STANDARD
TZID:Asia/Hong_Kong
BEGIN:STANDARD
TZOFFSETFROM:+0800
TZOFFSETTO:+0800
TZNAME:HKT
DTSTART:20230101T000000
END:STANDARD
END:VTIMEZONE
BEGIN:VEVENT
DTSTART;TZID=Asia/Kolkata:20231123T163000
DTEND;TZID=Asia/Kolkata:20231123T184500
DTSTAMP:20260425T102710
CREATED:20231110T131749Z
LAST-MODIFIED:20231110T181047Z
UID:10000158-1700757000-1700765100@www.fixtrading.org
SUMMARY:FIX India Working Group Seminar – Industry Priorities for Trading
DESCRIPTION:The FIX Trading Community’s India Working Group will host a seminar at the National Stock Exchange of India’s (NSE) office on 23 November 2023 (Thur)\, and you are cordially invited. The event will feature a presentation on the regional trading landscape and a panel discussion on topical issues that are affecting Indian trading and market development. Live streaming is also available for those who can’t attend in person. This event is open to all\, including buy-side\, sell-side\, and solution providers\, and we look forward to seeing you! \n\n\n\n\nREGISTER IN-PERSON PASS\n\n\n\nREGISTER VIRTUAL PASS\n\n \n  \nTopics and Rundown (IST):  \n\n\n\n4:30pm\nRegistration\n\n\n4:45pm\nIntro from IWG co-chair & Welcome\n\n\n4:50pm\nPresentation: What’s LEIs Means to India Trading \nVikas Panwar\, Country Business Manager\, GLEIF\n\n\n5:00pm\nExchanges’ Updates\n\n\n5:10pm\nPresentation: Regional Market Structure and Trading Trends\nDavid Rabinowitz\, Head of Global Index Analytics and Asia Pacific Market Structure\, UBS\n\n\n5:25pm\nPanel Discussion:  \n\nMarket structure\nT+1\nUpdates on F&O environment\nGIFT City’s Future Roles\n\nPanelists:  \nSriram Krishnan\, Chief Business Development Officer\, NSE\nSameer Patil\, Chief Business Officer\, BSE\nJaideep Shetty\, Tata Mutual Fund\nSimon Williams\, Managing Director\, APAC Head of Equity Trading\, BlackRock \nModerator:  \nJean-Marc Nosbusch\, Manager\, Equity Sales Trading\, Macquarie Capital; and Co-chair\, India Working Group\, FIX Trading Community\n\n\n6:10pm\nQ&A Session\n\n\n6:25pm\nNetworking\n\n\n\nFee: Free of charge for FIX members and invited industry participants \nEnquiries: barbara.law@fixtrading.org \n 
URL:https://www.fixtrading.org/event/indiaseminar/
LOCATION:Dr. R H Patil Auditorium\, Dr. R H Patil Auditorium\, National Stock Exchange\, Exchange Plaza\, C-1\, Block G\, Bandra Kurla Complex\, Bandra (E)\, Mumbai\, 400 051\, India
CATEGORIES:Asia Pac,FIX Event
ATTACH;FMTTYPE=image/png:https://www.fixtrading.org/wp-content/uploads/2022/11/Mumbai-1.png
ORGANIZER;CN="FIX Trading Community":MAILTO:events@fixtrading.org
GEO:19.05975;72.85917
X-APPLE-STRUCTURED-LOCATION;VALUE=URI;X-ADDRESS=Dr. R H Patil Auditorium Dr. R H Patil Auditorium National Stock Exchange Exchange Plaza C-1 Block G Bandra Kurla Complex Bandra (E) Mumbai 400 051 India;X-APPLE-RADIUS=500;X-TITLE=Dr. R H Patil Auditorium\, National Stock Exchange\, Exchange Plaza\, C-1\, Block G\, Bandra Kurla Complex:geo:72.85917,19.05975
END:VEVENT
BEGIN:VEVENT
DTSTART;TZID=Asia/Hong_Kong:20231128T174500
DTEND;TZID=Asia/Hong_Kong:20231128T194500
DTSTAMP:20260425T102710
CREATED:20231124T173013Z
LAST-MODIFIED:20231124T173013Z
UID:10000161-1701193500-1701200700@www.fixtrading.org
SUMMARY:Hong Kong Year-End Festive Networking Drinks
DESCRIPTION:You are warmly invited to join the FIX NextGen (FNG)* for an unforgettable Year-End Drink & Networking Event\, where there will be a blend of newer industry professionals and more experienced industry experts/ FIX Trading Community leaders. This is a chance to mingle\, connect\, and share a smile with industry peers and professionals from diverse corners of the electronic trading community. \n\nDate:  Tuesday 28th November 2023\nTime: 5:45pm – 7:45pm\nLocation: BACI Trattoria & Bar at Lan Kwai Fong\n\nRSVP by 22 November at: \nhttps://www.fix-events.com/FIX/2023FIXNetworkingDrinks/register.aspx \nYou may also refer your colleagues or friends from other FIX member firms to join us too (limited no. per firm).  Seats are limited. All registrations are subject to approval and availability. \nWe can’t wait to clink glasses with you and toast a successful year! \n*FNG (FIX Next Generation) group aims to offer networking\, knowledge sharing\, and career development for junior and mid-level professionals at member firms.  Staff from our member firms\, who have up to 6 years’ industry experience\, are most welcome to join the FNG Group and this complimentary networking event.  Appreciate if you could refer your colleagues\, who meet the above requirements\, to join the FNG Group.  Please send your referrals to barbara.law@fixtrading.org.
URL:https://www.fixtrading.org/event/hongkong-networkingdrinks/
LOCATION:BACI Trattoria & Bar at Lan Kwai Fong\, G/F\, California Tower\, 30-32 D'Aguilar Street\, Central\, Hong Kong\, China
CATEGORIES:Asia Pac,FIX Event
ATTACH;FMTTYPE=image/jpeg:https://www.fixtrading.org/wp-content/uploads/2023/11/FIX-Cocktail-Reception-Logo-scaled.jpg
ORGANIZER;CN="FIX Trading Community":MAILTO:events@fixtrading.org
GEO:22.280906;114.1554893
X-APPLE-STRUCTURED-LOCATION;VALUE=URI;X-ADDRESS=BACI Trattoria & Bar at Lan Kwai Fong G/F California Tower 30-32 D'Aguilar Street Central Hong Kong China;X-APPLE-RADIUS=500;X-TITLE=G/F\, California Tower\, 30-32 D'Aguilar Street\, Central:geo:114.1554893,22.280906
END:VEVENT
END:VCALENDAR