




BEGIN:VCALENDAR
VERSION:2.0
PRODID:-//FIX Trading Community - ECPv6.3.7//NONSGML v1.0//EN
CALSCALE:GREGORIAN
METHOD:PUBLISH
X-WR-CALNAME:FIX Trading Community
X-ORIGINAL-URL:https://www.fixtrading.org
X-WR-CALDESC:Events for FIX Trading Community
REFRESH-INTERVAL;VALUE=DURATION:PT1H
X-Robots-Tag:noindex
X-PUBLISHED-TTL:PT1H
BEGIN:VTIMEZONE
TZID:America/Chicago
BEGIN:DAYLIGHT
TZOFFSETFROM:-0600
TZOFFSETTO:-0500
TZNAME:CDT
DTSTART:20260308T080000
END:DAYLIGHT
BEGIN:STANDARD
TZOFFSETFROM:-0500
TZOFFSETTO:-0600
TZNAME:CST
DTSTART:20261101T070000
END:STANDARD
TZID:America/New_York
BEGIN:DAYLIGHT
TZOFFSETFROM:-0500
TZOFFSETTO:-0400
TZNAME:EDT
DTSTART:20260308T070000
END:DAYLIGHT
BEGIN:STANDARD
TZOFFSETFROM:-0400
TZOFFSETTO:-0500
TZNAME:EST
DTSTART:20261101T060000
END:STANDARD
END:VTIMEZONE
BEGIN:VEVENT
DTSTART;TZID=America/Chicago:20260923T150000
DTEND;TZID=America/Chicago:20260923T183000
DTSTAMP:20260422T223407
CREATED:20260324T110732Z
LAST-MODIFIED:20260422T095944Z
UID:10000229-1790175600-1790188200@www.fixtrading.org
SUMMARY:Chicago FIX Forum 2026
DESCRIPTION:The FIX Trading Community invites you to attend the Chicago FIX Forum on Wednesday September 23rd 2026. \nHosted by Connamara this event will bring together local market participants to discuss the issues and challenges impacting the electronic trading market in the region. \nJoin us from 3pm for an afternoon of content\, followed by a networking drinks reception. \nRegistrations will open soon!
URL:https://www.fixtrading.org/event/chicagoforum2026/
LOCATION:Riverside Plaza\, 150N. Riverside Plaza\, Chicago\, IL\, 60606\, United States
CATEGORIES:Americas,FIX Event
ATTACH;FMTTYPE=image/jpeg:https://www.fixtrading.org/wp-content/uploads/2026/03/Event-Page-image-Chicago-FIX-Forum-2026.jpg
ORGANIZER;CN="FIX Trading Community":MAILTO:events@fixtrading.org
GEO:41.8855546;-87.6385241
X-APPLE-STRUCTURED-LOCATION;VALUE=URI;X-ADDRESS=Riverside Plaza 150N. Riverside Plaza Chicago IL 60606 United States;X-APPLE-RADIUS=500;X-TITLE=150N. Riverside Plaza:geo:-87.6385241,41.8855546
END:VEVENT
BEGIN:VEVENT
DTSTART;TZID=America/New_York:20261029T090000
DTEND;TZID=America/New_York:20261029T183000
DTSTAMP:20260422T223407
CREATED:20260127T093736Z
LAST-MODIFIED:20260326T125705Z
UID:10000225-1793264400-1793298600@www.fixtrading.org
SUMMARY:Americas Trading Conference 2026
DESCRIPTION:Building on the momentum of last year’s Americas Trading Conference\, we are pleased to return to New York for a full-day event.\nThe Americas Trading Conference 2026 will take place at @Ease 605 in New York on Thursday\, October 29. \nThe conference will feature a single-stream agenda of engaging panel discussions designed to encourage interaction and address current market priorities. Attendees can expect impartial\, high-quality insights and perspectives from leading industry experts. \nFull agenda details will be announced shortly.
URL:https://www.fixtrading.org/event/americas2026/
LOCATION:@Ease 605\, 605 Third Avenue\, NY\, NY 10158\, United States
CATEGORIES:Americas,FIX Event
ATTACH;FMTTYPE=image/jpeg:https://www.fixtrading.org/wp-content/uploads/2025/03/Americas-Website-2026.jpg
ORGANIZER;CN="FIX Trading Community":MAILTO:events@fixtrading.org
GEO:40.7491424;-73.9753812
X-APPLE-STRUCTURED-LOCATION;VALUE=URI;X-ADDRESS=@Ease 605 605 Third Avenue NY NY 10158 United States;X-APPLE-RADIUS=500;X-TITLE=605 Third Avenue:geo:-73.9753812,40.7491424
END:VEVENT
END:VCALENDAR