




BEGIN:VCALENDAR
VERSION:2.0
PRODID:-//FIX Trading Community - ECPv6.3.7//NONSGML v1.0//EN
CALSCALE:GREGORIAN
METHOD:PUBLISH
X-ORIGINAL-URL:https://www.fixtrading.org
X-WR-CALDESC:Events for FIX Trading Community
REFRESH-INTERVAL;VALUE=DURATION:PT1H
X-Robots-Tag:noindex
X-PUBLISHED-TTL:PT1H
BEGIN:VTIMEZONE
TZID:Asia/Hong_Kong
BEGIN:STANDARD
TZOFFSETFROM:+0800
TZOFFSETTO:+0800
TZNAME:HKT
DTSTART:20250101T000000
END:STANDARD
END:VTIMEZONE
BEGIN:VEVENT
DTSTART;TZID=Asia/Hong_Kong:20250918T190000
DTEND;TZID=Asia/Hong_Kong:20250918T200000
DTSTAMP:20260422T071422
CREATED:20250902T074416Z
LAST-MODIFIED:20250904T074146Z
UID:10000213-1758222000-1758225600@www.fixtrading.org
SUMMARY:FIX Webinar - Beyond the Closing Bell: Accessing US Markets After Dark
DESCRIPTION:Building on the success of the first FIX APAC Webinar on overnight trading held in July\, FIX Trading Community is pleased to host the second webinar\, which will explore client demand\, broker-venue relationships\, connectivity models\, and the risks and challenges faced by market participants as the sector evolves with new entrants. \nTimings\n07:00 – 18th September  – New York\n12:00 – 18th September – London\n19:00 – 18th September – Hong Kong / Singapore\n20:00 – 18th September – Tokyo\n21:00  -18th September – Sydney \nSpeakers \n\nDmitri Galinov\, Founder and CEO\, 24 Exchange\nEd Hosty\, Head of Execution\, Robinhood\nBrian Hyndman\, CEO\, Blue Ocean Technologies\nSteve Sosnick\, Chief Strategist\, Interactive Brokers\nJason Wallach\, CEO\, Bruce Markets\nSenior representatives of participating brokers\n\nModerator: Murrough O’Brien\, Co-Chair\, Asia Pacific Steering Committee\, FIX Trading Community \nTopics to Be Addressed \n\nInsights on client demand and drivers behind overnight trading adoption\nOverview of connectivity models and access options for overnight venues\nCollaboration with venues and coverage of securities available for overnight trading\nTrading hours and key tech challenges in supporting overnight flow\nBest execution strategies across multiple venues\, including trade-through considerations\nTrade reporting\, settlement processes\, and emerging risks to watch\n\nWho Should Attend? \nThis webinar is designed for professionals interested in the evolving landscape of 24-hour trading\, including: \n\nInstitutional Brokers\nRetail Brokers\nFamily Offices & Wealth Managers\nFund Managers\nHedge Funds\nQuant Funds\nMarket Makers\nExchanges\n\nRegistration: \nWebinar Registration – Zoom\n(You are most welcome to refer your industry peers and colleagues to register online)\nEnquiry: Barbara Law\, barbara.law@fixtrading.org
URL:https://www.fixtrading.org/event/fix-webinar-beyond-the-closing-bell-accessing-us-markets-after-dark/
LOCATION:Zoom Webinar
CATEGORIES:Americas,Asia Pac,EMEA,FIX Event
ORGANIZER;CN="FIX Trading Community":MAILTO:events@fixtrading.org
END:VEVENT
END:VCALENDAR