




BEGIN:VCALENDAR
VERSION:2.0
PRODID:-//FIX Trading Community - ECPv6.3.7//NONSGML v1.0//EN
CALSCALE:GREGORIAN
METHOD:PUBLISH
X-ORIGINAL-URL:https://www.fixtrading.org
X-WR-CALDESC:Events for FIX Trading Community
REFRESH-INTERVAL;VALUE=DURATION:PT1H
X-Robots-Tag:noindex
X-PUBLISHED-TTL:PT1H
BEGIN:VTIMEZONE
TZID:America/New_York
BEGIN:DAYLIGHT
TZOFFSETFROM:-0500
TZOFFSETTO:-0400
TZNAME:EDT
DTSTART:20240310T070000
END:DAYLIGHT
BEGIN:STANDARD
TZOFFSETFROM:-0400
TZOFFSETTO:-0500
TZNAME:EST
DTSTART:20241103T060000
END:STANDARD
END:VTIMEZONE
BEGIN:VEVENT
DTSTART;TZID=America/New_York:20241003T160000
DTEND;TZID=America/New_York:20241003T180000
DTSTAMP:20260424T193734
CREATED:20240906T093358Z
LAST-MODIFIED:20240923T161941Z
UID:10000187-1727971200-1727978400@www.fixtrading.org
SUMMARY:FIX Boston Networking Event 2024
DESCRIPTION:Join us on Thursday 3rd October as we return to Boston to bring together the FIX Trading Community for an evening of networking and the opportunity to connect with industry leaders and peers. \nThis event is open to FIX Trading Community Members and Buy-Side firms only. \n\nREGISTER HERE\n\n\n  \nHosted by
URL:https://www.fixtrading.org/event/fixbostonnetworkingevent2024/
LOCATION:Linedata\, 260 Franklin Street\, Boston\, MA 02110
CATEGORIES:Americas,FIX Event
ATTACH;FMTTYPE=image/png:https://www.fixtrading.org/wp-content/uploads/2024/09/WordPress-Featured-Image-Boston-1-1.png
ORGANIZER;CN="FIX Trading Community":MAILTO:events@fixtrading.org
GEO:42.3569802;-71.0540018
X-APPLE-STRUCTURED-LOCATION;VALUE=URI;X-ADDRESS=Linedata 260 Franklin Street Boston MA 02110;X-APPLE-RADIUS=500;X-TITLE=260 Franklin Street\, Boston\, MA 02110:geo:-71.0540018,42.3569802
END:VEVENT
BEGIN:VEVENT
DTSTART;TZID=America/New_York:20241016T090000
DTEND;TZID=America/New_York:20241016T180000
DTSTAMP:20260424T193734
CREATED:20231213T135233Z
LAST-MODIFIED:20250623T092352Z
UID:10000107-1729069200-1729101600@www.fixtrading.org
SUMMARY:Americas Trading Conference 2024
DESCRIPTION:Building on the success of the Americas Trading Conferences in New York over the past 7 years\, we return to the City with a full-day conference! \nThe Americas Trading Conference 2024 will be hosted at etc.venues 360 Madison Avenue\, New York\, on Wednesday 16th October. \nThis event will provide a series of panel sessions across a one-stream agenda with an interactive program that addresses market needs\, providing impartial\, high quality content and the knowledge and experience of industry leading speakers. \n\nVIEW PICTURES FROM THE AMERICAS TRADING CONFERENCE\n\n\n\n	\nLead Sponsors
URL:https://www.fixtrading.org/event/americas2024/
LOCATION:etc.venues 360 Madison Avenue\, New York\, NY\, 10017\, United States
CATEGORIES:Americas,FIX Event
ATTACH;FMTTYPE=image/png:https://www.fixtrading.org/wp-content/uploads/2023/12/NYC-skyline-image-FIX-logo-2.png
ORGANIZER;CN="FIX Trading Community":MAILTO:events@fixtrading.org
GEO:40.7549813;-73.9779968
END:VEVENT
END:VCALENDAR